Workbook

Sheet Лист1
B2: Приложение к запросу №22 от 19.03.2021г
A3: № п/п | B3: Наименование товара | C3: ед. измерения | D3: Общее количество | E3: Сумма | F3: цена | G3: ГОУ ЛНР КСШ № 1 им. А.М. Горькго | I3: ГОУ ЛНР КСШ № 2 им. Н.П. Баракова | K3: ГОУ ЛНР Власовский УВК № 3 | M3: ГОУ ЛНР КСШ № 4 им. С.Г. Тюленина | O3: ГОУ ЛНР ССШ № 5 | Q3: ГОУ ЛНР КСШ № 6 им. У.М. Громовой | S3: ГОУ ЛНР МСШ № 7 | U3: ГОУ ЛНР КСШ № 8 им. В. Парсанова | W3: ГОУ ЛНР КСШ № 9 | Y3: ГОУ ЛНР МСШ № 10 | AA3: ГОУ ЛНР Урало-Кавказская СШ № 11 им. Д. Голенкова | AC3: ГОУ ЛНР Белоскелеватская СШ № 12 | AE3: ГОУ ЛНР С-Гундор.УВК № 13 им. А. Морилова | AG3: ГОУ ЛНР СОШ № 14 | AI3: ГОУ ЛНР Краснодарская ОШ № 15 | AK3: ГОУ ЛНР Северный УВК №м 16 | AM3: ГОУ ЛНР ССШ № 17 им. И.А. Земнухова | AO3: ГОУ ЛНР Энгельсовская ОШ № 18 | AQ3: ГОУ ЛНР Изваринский УВК № 19 | AS3: ГОУ ЛНР Великологовская ОШ № 20 | AU3: ГОУ ЛНР МСШ № 21 | AW3: ГОУ ЛНР КСШ № 22 им. Н. Сумского | AY3: ГОУ ЛНР Великосуходольский УВК № 23 | BA3: ГОУ ЛНР КСШ № 24 им. И.В. Туркенича | BC3: ГОУ ЛНР Верхнешевыревская ОШ № 25 | BE3: ГОУ ЛНР Давыдо-Никольский УВК № 26 | BG3: ГОУ ЛНР Новоанновский УВК № 27 | BI3: ГОУ ЛНР Н-Александр.СШ № 28 им. К. Ковалевой | BK3: ГОУ ЛНР Орджоникидзевская СШ № 29 | BM3: ГОУ ЛНР Пархоменский УВК № 30 | BO3: ГОУ ЛНР Семейкинский УВК № 31 | BQ3: ГОУ ЛНР Пореченский УВК № 32 | BS3: ГОУ ЛНР Самсоновский УВК № 33 | BU3: ГОУ ЛНР Таловская ОШ № 34 им. Бондаревых | BW3: ГОУ ЛНР Хрящеват.ОШ № 35 им. Г.Н.Цыплакова | BY3: ГОУ ЛНР Красная ОШ № 36 | CA3: ГОУ ЛНР Краснодонская городская гимназия | CC3: ГОУ ЛНР Новосветловская гимназия | CE3: ГОУ ЛНР Краснодонская СКДШ-ДС | CG3: Управление образования АГК и КР (ЦБ) | CI3: Управление образования АГК и КР (аппарат) | CK3: ДОДУМ 1 | CM3: ДОДУМ 4 | CO3: ГДОУ КДС № 1 "Калинка" | CQ3: ГДО УКДС КВ № 3 "Ягодка" | CS3: ГДОУ Орджоникидзевский Д/С № 4 "Березка" | CU3: ГДОУ Мирненский Д/С №5 "Петушок" | CW3: ГДОУ Новосветловский Д/С №6 "Аленка" | CY3: ГДОУ Хрящеватенский Д/С № 9 "Барвинок" | DA3: ГДОУ "Урало-Кавказский д/с №10 "Солнышко" | DC3: ГДОУ КДС №17 "Золушка" | DE3: ГДОУ КДС №18 "Ивушка" | DG3: ГДОУ "Урало-Кавказский Д/С №29 "Сказка" | DI3: ГДОУ Д/С №40 "Веснушки" | DK3: ГУ "КМЦ"
G4: кол-во | H4: сумма | I4: кол-во | J4: сумма | K4: кол-во | L4: сумма | M4: кол-во | N4: сумма | O4: кол-во | P4: сумма | Q4: кол-во | R4: сумма | S4: кол-во | T4: сумма | U4: кол-во | V4: сумма | W4: кол-во | X4: сумма | Y4: кол-во | Z4: сумма | AA4: кол-во | AB4: сумма | AC4: кол-во | AD4: сумма | AE4: кол-во | AF4: сумма | AG4: кол-во | AH4: сумма | AI4: кол-во | AJ4: сумма | AK4: кол-во | AL4: сумма | AM4: кол-во | AN4: сумма | AO4: кол-во | AP4: сумма | AQ4: кол-во | AR4: сумма | AS4: кол-во | AT4: сумма | AU4: кол-во | AV4: сумма | AW4: кол-во | AX4: сумма | AY4: кол-во | AZ4: сумма | BA4: кол-во | BB4: сумма | BC4: кол-во | BD4: сумма | BE4: кол-во | BF4: сумма | BG4: кол-во | BH4: сумма | BI4: кол-во | BJ4: сумма | BK4: кол-во | BL4: сумма | BM4: кол-во | BN4: сумма | BO4: кол-во | BP4: сумма | BQ4: кол-во | BR4: сумма | BS4: кол-во | BT4: сумма | BU4: кол-во | BV4: сумма | BW4: кол-во | BX4: сумма | BY4: кол-во | BZ4: сумма | CA4: кол-во | CB4: сумма | CC4: кол-во | CD4: сумма | CE4: кол-во | CF4: сумма | CG4: кол-во | CH4: сумма | CI4: кол-во | CJ4: сумма | CK4: кол-во | CL4: сумма | CM4: кол-во | CN4: сумма | CO4: кол-во | CP4: сумма | CQ4: кол-во | CR4: сумма | CS4: кол-во | CT4: сумма | CU4: кол-во | CV4: сумма | CW4: кол-во | CX4: сумма | CY4: кол-во | CZ4: сумма | DA4: кол-во | DB4: сумма | DC4: кол-во | DD4: сумма | DE4: кол-во | DF4: сумма | DG4: кол-во | DH4: сумма | DI4: кол-во | DJ4: сумма | DK4: кол-во | DL4: сумма
G5: кол-во | H5: сумма | I5: кол-во | J5: сумма | K5: кол-во | L5: сумма | M5: кол-во | N5: сумма | O5: кол-во | P5: сумма | Q5: кол-во | R5: сумма | S5: кол-во | T5: сумма | U5: кол-во | V5: сумма | W5: кол-во | X5: сумма | Y5: кол-во | Z5: сумма | AA5: кол-во | AB5: сумма | AC5: кол-во | AD5: сумма | AE5: кол-во | AF5: сумма | AG5: кол-во | AH5: сумма | AI5: кол-во | AJ5: сумма | AK5: кол-во | AL5: сумма | AM5: кол-во | AN5: сумма | AO5: кол-во | AP5: сумма | AQ5: кол-во | AR5: сумма | AS5: кол-во | AT5: сумма | AU5: кол-во | AV5: сумма | AW5: кол-во | AX5: сумма | AY5: кол-во | AZ5: сумма | BA5: кол-во | BB5: сумма | BC5: кол-во | BD5: сумма | BE5: кол-во | BF5: сумма | BG5: кол-во | BH5: сумма | BI5: кол-во | BJ5: сумма | BK5: кол-во | BL5: сумма | BM5: кол-во | BN5: сумма | BO5: кол-во | BP5: сумма | BQ5: кол-во | BR5: сумма | BS5: кол-во | BT5: сумма | BU5: кол-во | BV5: сумма | BW5: кол-во | BX5: сумма | BY5: кол-во | BZ5: сумма | CA5: кол-во | CB5: сумма | CC5: кол-во | CD5: сумма | CE5: кол-во | CF5: сумма | CG5: кол-во | CH5: сумма | CI5: кол-во | CJ5: сумма | CK5: кол-во | CL5: сумма | CM5: кол-во | CN5: сумма | CO5: кол-во | CP5: сумма | CQ5: кол-во | CR5: сумма | CS5: кол-во | CT5: сумма | CU5: кол-во | CV5: сумма | CW5: кол-во | CX5: сумма | CY5: кол-во | CZ5: сумма | DA5: кол-во | DB5: сумма | DC5: кол-во | DD5: сумма | DE5: кол-во | DF5: сумма | DG5: кол-во | DH5: сумма | DI5: кол-во | DJ5: сумма | DK5: кол-во | DL5: сумма
A6: 1 | B6: Белизна 1л. | C6: шт | D6: =G6+++I6+K6+M6+O6+Q6+S6+U6+W6+Y6+AA6+AC6+AE6+AG6+AI6+AK6+AM6+AO6+AQ6+AS6+AU6+AW6+AY6+BA6+BC6+BE6+BG6+BI6+BK6+BM6+BO6+BQ6+BS6+BU6+BW6+BY6+CA6+CC6+CE6+CG6+CI6+CK6+CM6+CO6+CQ6+CS6+CU6+CW6+CY6+DA6+DC6+DE6+DG6+DI6+DK6 -> 983 | E6: =D6*F6 -> 0 | G6: ='[1]школа 1'!E3 -> 50 | H6: =G6*F6 -> 0 | I6: ='[1]школа 2'!E3 -> 15 | J6: =I6*F6 -> 0 | K6: =[1]Герас!E3 -> 50 | L6: =K6*F6 -> 0 | M6: ='[1]школа 4'!E3 -> 50 | N6: =M6*F6 -> 0 | O6: ='[1]школа 5'!E3 -> 20 | P6: =O6*F6 -> 0 | Q6: ='[1]школа 6'!E3 -> 25 | R6: =Q6*F6 -> 0 | S6: ='[1]школа 7'!E3 -> 30 | T6: =S6*F6 -> 0 | U6: ='[1]школа 8'!E3 -> 0 | V6: =U6*F6 -> 0 | W6: ='[1]школа 9'!E3 -> 30 | X6: =W6*F6 -> 0 | Y6: ='[1]школа 10'!E3 -> 30 | Z6: =Y6*F6 -> 0 | AA6: ='[1]школа 11'!E3 -> 30 | AB6: =AA6*F6 -> 0 | AC6: =[1]Скелев!E3 -> 0 | AD6: =AC6*F6 -> 0 | AE6: ='[1]школа 13'!E3 -> 15 | AF6: =AE6*F6 -> 0 | AG6: ='[1]школа 14'!E3 -> 15 | AH6: =AG6*F6 -> 0 | AI6: ='[1]школа 15'!E3 -> 5 | AJ6: =AI6*F6 -> 0 | AK6: ='[1]школа 16'!E3 -> 0 | AL6: =AK6*F6 -> 0 | AM6: ='[1]школа 17'!E3 -> 0 | AN6: =AM6*F6 -> 0 | AO6: ='[1]школа 18'!E3 -> 0 | AP6: =AO6*F6 -> 0 | AQ6: ='[1]школа 19'!E3 -> 0 | AR6: =AQ6*F6 -> 0 | AS6: ='[1]В-ЛОГ'!E3 -> 0 | AT6: =AS6*F6 -> 0 | AU6: ='[1]школа 21'!E3 -> 100 | AV6: =AU6*F6 -> 0 | AW6: ='[1]школа 22)'!E3 -> 0 | AX6: =AW6*F6 -> 0 | AY6: =[1]БСуход!E3 -> 15 | AZ6: =AY6*F6 -> 0 | BA6: ='[1]школа 24'!E3 -> 30 | BB6: =BA6*F6 -> 0 | BC6: =[1]Шевыр!E3 -> 15 | BD6: =BC6*F6 -> 0 | BE6: =[1]дн!E3 -> 10 | BF6: =BE6*F6 -> 0 | BG6: =[1]Новоанн!E3 -> 30 | BH6: =BG6*F6 -> 0 | BI6: ='[1]Н-А'!E3 -> 10 | BJ6: =BI6*F6 -> 0 | BK6: =[1]Ордж!E3 -> 30 | BL6: =BK6*F6 -> 0 | BM6: =[1]Пархом!E3 -> 30 | BN6: =BM6*F6 -> 0 | BO6: =[1]Семейк!E3 -> 15 | BP6: =BO6*F6 -> 0 | BQ6: =[1]Пореч!E3 -> 50 | BR6: =BQ6*F6 -> 0 | BS6: =[1]Самсон!E3 -> 0 | BT6: =BS6*F6 -> 0 | BU6: =[1]Тал!E3 -> 0 | BV6: =BU6*F6 -> 0 | BW6: =[1]Хрящев!E3 -> 0 | BX6: =BW6*F6 -> 0 | BY6: =[1]Красн!E3 -> 0 | BZ6: =BY6*F6 -> 0 | CA6: =[1]КГГ!E3 -> 30 | CB6: =CA6*F6 -> 0 | CC6: =[1]НСвет!E3 -> 0 | CD6: =CC6*F6 -> 0 | CE6: =[1]радуга!E3 -> 50 | CF6: =CE6*F6 -> 0 | CG6: =[1]ЦБ!E3 -> 0 | CH6: =CG6*F6 -> 0 | CI6: ='[1]10115'!E3 -> 0 | CJ6: =CI6*F6 -> 0 | CK6: ='[1]ЦДТ №1'!E3 -> 0 | CL6: =CK6*F6 -> 0 | CM6: ='[1]ЦДТ № 4'!E3 -> 0 | CN6: =CM6*F6 -> 0 | CO6: =[1]Калинка!E3 -> 45 | CP6: =CO6*F6 -> 0 | CQ6: =[1]Ягодка!E3 -> 10 | CR6: =CQ6*F6 -> 0 | CS6: =[1]Березка!E3 -> 0 | CT6: =CS6*F6 -> 0 | CU6: =[1]Петушок!E3 -> 10 | CV6: =CU6*F6 -> 0 | CW6: =[1]Аленка!E3 -> 0 | CX6: =CW6*F6 -> 0 | CY6: =[1]Барвинок!E3 -> 10 | CZ6: =CY6*F6 -> 0 | DA6: ='[1]Солнышко 10'!E3 -> 10 | DB6: =DA6*F6 -> 0 | DC6: =[1]Золушка!E3 -> 0 | DD6: =DC6*F6 -> 0 | DE6: =[1]Ивушка!E3 -> 29 | DF6: =DE6*F6 -> 0 | DG6: =[1]Сказка!E3 -> 10 | DH6: =DG6*F6 -> 0 | DI6: =[1]Веснушки!E3 -> 54 | DJ6: =DI6*F6 -> 0 | DK6: =[1]кмц!E3 -> 25 | DL6: =DK6*F6 -> 0
A7: 2 | B7: Средство для мытья посуды 1л. | C7: шт | D7: =G7+++I7+K7+M7+O7+Q7+S7+U7+W7+Y7+AA7+AC7+AE7+AG7+AI7+AK7+AM7+AO7+AQ7+AS7+AU7+AW7+AY7+BA7+BC7+BE7+BG7+BI7+BK7+BM7+BO7+BQ7+BS7+BU7+BW7+BY7+CA7+CC7+CE7+CG7+CI7+CK7+CM7+CO7+CQ7+CS7+CU7+CW7+CY7+DA7+DC7+DE7+DG7+DI7+DK7 -> 1061 | E7: =D7*F7 -> 0 | G7: ='[1]школа 1'!E4 -> 50 | H7: =G7*F7 -> 0 | I7: ='[1]школа 2'!E4 -> 60 | J7: =I7*F7 -> 0 | K7: =[1]Герас!E4 -> 15 | L7: =K7*F7 -> 0 | M7: ='[1]школа 4'!E4 -> 20 | N7: =M7*F7 -> 0 | O7: ='[1]школа 5'!E4 -> 15 | P7: =O7*F7 -> 0 | Q7: ='[1]школа 6'!E4 -> 30 | R7: =Q7*F7 -> 0 | S7: ='[1]школа 7'!E4 -> 20 | T7: =S7*F7 -> 0 | U7: ='[1]школа 8'!E4 -> 0 | V7: =U7*F7 -> 0 | W7: ='[1]школа 9'!E4 -> 0 | X7: =W7*F7 -> 0 | Y7: ='[1]школа 10'!E4 -> 30 | Z7: =Y7*F7 -> 0 | AA7: ='[1]школа 11'!E4 -> 10 | AB7: =AA7*F7 -> 0 | AC7: =[1]Скелев!E4 -> 10 | AD7: =AC7*F7 -> 0 | AE7: ='[1]школа 13'!E4 -> 20 | AF7: =AE7*F7 -> 0 | AG7: ='[1]школа 14'!E4 -> 15 | AH7: =AG7*F7 -> 0 | AI7: ='[1]школа 15'!E4 -> 0 | AJ7: =AI7*F7 -> 0 | AK7: ='[1]школа 16'!E4 -> 0 | AL7: =AK7*F7 -> 0 | AM7: ='[1]школа 17'!E4 -> 0 | AN7: =AM7*F7 -> 0 | AO7: ='[1]школа 18'!E4 -> 0 | AP7: =AO7*F7 -> 0 | AQ7: ='[1]школа 19'!E4 -> 10 | AR7: =AQ7*F7 -> 0 | AS7: ='[1]В-ЛОГ'!E4 -> 0 | AT7: =AS7*F7 -> 0 | AU7: ='[1]школа 21'!E4 -> 70 | AV7: =AU7*F7 -> 0 | AW7: ='[1]школа 22)'!E4 -> 20 | AX7: =AW7*F7 -> 0 | AY7: =[1]БСуход!E4 -> 20 | AZ7: =AY7*F7 -> 0 | BA7: ='[1]школа 24'!E4 -> 20 | BB7: =BA7*F7 -> 0 | BC7: =[1]Шевыр!E4 -> 15 | BD7: =BC7*F7 -> 0 | BE7: =[1]дн!E4 -> 20 | BF7: =BE7*F7 -> 0 | BG7: =[1]Новоанн!E4 -> 70 | BH7: =BG7*F7 -> 0 | BI7: ='[1]Н-А'!E4 -> 10 | BJ7: =BI7*F7 -> 0 | BK7: =[1]Ордж!E4 -> 20 | BL7: =BK7*F7 -> 0 | BM7: =[1]Пархом!E4 -> 30 | BN7: =BM7*F7 -> 0 | BO7: =[1]Семейк!E4 -> 10 | BP7: =BO7*F7 -> 0 | BQ7: =[1]Пореч!E4 -> 30 | BR7: =BQ7*F7 -> 0 | BS7: =[1]Самсон!E4 -> 0 | BT7: =BS7*F7 -> 0 | BU7: =[1]Тал!E4 -> 0 | BV7: =BU7*F7 -> 0 | BW7: =[1]Хрящев!E4 -> 10 | BX7: =BW7*F7 -> 0 | BY7: =[1]Красн!E4 -> 0 | BZ7: =BY7*F7 -> 0 | CA7: =[1]КГГ!E4 -> 30 | CB7: =CA7*F7 -> 0 | CC7: =[1]НСвет!E4 -> 50 | CD7: =CC7*F7 -> 0 | CE7: =[1]радуга!E4 -> 90 | CF7: =CE7*F7 -> 0 | CG7: =[1]ЦБ!E4 -> 0 | CH7: =CG7*F7 -> 0 | CI7: ='[1]10115'!E4 -> 0 | CJ7: =CI7*F7 -> 0 | CK7: ='[1]ЦДТ №1'!E4 -> 0 | CL7: =CK7*F7 -> 0 | CM7: ='[1]ЦДТ № 4'!E4 -> 0 | CN7: =CM7*F7 -> 0 | CO7: =[1]Калинка!E4 -> 50 | CP7: =CO7*F7 -> 0 | CQ7: =[1]Ягодка!E4 -> 39 | CR7: =CQ7*F7 -> 0 | CS7: =[1]Березка!E4 -> 5 | CT7: =CS7*F7 -> 0 | CU7: =[1]Петушок!E4 -> 10 | CV7: =CU7*F7 -> 0 | CW7: =[1]Аленка!E4 -> 20 | CX7: =CW7*F7 -> 0 | CY7: =[1]Барвинок!E4 -> 5 | CZ7: =CY7*F7 -> 0 | DA7: ='[1]Солнышко 10'!E4 -> 10 | DB7: =DA7*F7 -> 0 | DC7: =[1]Золушка!E4 -> 0 | DD7: =DC7*F7 -> 0 | DE7: =[1]Ивушка!E4 -> 40 | DF7: =DE7*F7 -> 0 | DG7: =[1]Сказка!E4 -> 10 | DH7: =DG7*F7 -> 0 | DI7: =[1]Веснушки!E4 -> 42 | DJ7: =DI7*F7 -> 0 | DK7: =[1]кмц!E4 -> 10 | DL7: =DK7*F7 -> 0
A8: 3 | B8: Средство чистящее 400г. | C8: шт | D8: =G8+++I8+K8+M8+O8+Q8+S8+U8+W8+Y8+AA8+AC8+AE8+AG8+AI8+AK8+AM8+AO8+AQ8+AS8+AU8+AW8+AY8+BA8+BC8+BE8+BG8+BI8+BK8+BM8+BO8+BQ8+BS8+BU8+BW8+BY8+CA8+CC8+CE8+CG8+CI8+CK8+CM8+CO8+CQ8+CS8+CU8+CW8+CY8+DA8+DC8+DE8+DG8+DI8+DK8 -> 627 | E8: =D8*F8 -> 0 | G8: ='[1]школа 1'!E5 -> 20 | H8: =G8*F8 -> 0 | I8: ='[1]школа 2'!E5 -> 10 | J8: =I8*F8 -> 0 | K8: =[1]Герас!E5 -> 20 | L8: =K8*F8 -> 0 | M8: ='[1]школа 4'!E5 -> 20 | N8: =M8*F8 -> 0 | O8: ='[1]школа 5'!E5 -> 20 | P8: =O8*F8 -> 0 | Q8: ='[1]школа 6'!E5 -> 20 | R8: =Q8*F8 -> 0 | S8: ='[1]школа 7'!E5 -> 20 | T8: =S8*F8 -> 0 | U8: ='[1]школа 8'!E5 -> 0 | V8: =U8*F8 -> 0 | W8: ='[1]школа 9'!E5 -> 0 | X8: =W8*F8 -> 0 | Y8: ='[1]школа 10'!E5 -> 20 | Z8: =Y8*F8 -> 0 | AA8: ='[1]школа 11'!E5 -> 10 | AB8: =AA8*F8 -> 0 | AC8: =[1]Скелев!E5 -> 10 | AD8: =AC8*F8 -> 0 | AE8: ='[1]школа 13'!E5 -> 15 | AF8: =AE8*F8 -> 0 | AG8: ='[1]школа 14'!E5 -> 10 | AH8: =AG8*F8 -> 0 | AI8: ='[1]школа 15'!E5 -> 0 | AJ8: =AI8*F8 -> 0 | AK8: ='[1]школа 16'!E5 -> 0 | AL8: =AK8*F8 -> 0 | AM8: ='[1]школа 17'!E5 -> 0 | AN8: =AM8*F8 -> 0 | AO8: ='[1]школа 18'!E5 -> 0 | AP8: =AO8*F8 -> 0 | AQ8: ='[1]школа 19'!E5 -> 10 | AR8: =AQ8*F8 -> 0 | AS8: ='[1]В-ЛОГ'!E5 -> 0 | AT8: =AS8*F8 -> 0 | AU8: ='[1]школа 21'!E5 -> 40 | AV8: =AU8*F8 -> 0 | AW8: ='[1]школа 22)'!E5 -> 0 | AX8: =AW8*F8 -> 0 | AY8: =[1]БСуход!E5 -> 0 | AZ8: =AY8*F8 -> 0 | BA8: ='[1]школа 24'!E5 -> 20 | BB8: =BA8*F8 -> 0 | BC8: =[1]Шевыр!E5 -> 5 | BD8: =BC8*F8 -> 0 | BE8: =[1]дн!E5 -> 10 | BF8: =BE8*F8 -> 0 | BG8: =[1]Новоанн!E5 -> 30 | BH8: =BG8*F8 -> 0 | BI8: ='[1]Н-А'!E5 -> 0 | BJ8: =BI8*F8 -> 0 | BK8: =[1]Ордж!E5 -> 10 | BL8: =BK8*F8 -> 0 | BM8: =[1]Пархом!E5 -> 0 | BN8: =BM8*F8 -> 0 | BO8: =[1]Семейк!E5 -> 0 | BP8: =BO8*F8 -> 0 | BQ8: =[1]Пореч!E5 -> 20 | BR8: =BQ8*F8 -> 0 | BS8: =[1]Самсон!E5 -> 0 | BT8: =BS8*F8 -> 0 | BU8: =[1]Тал!E5 -> 0 | BV8: =BU8*F8 -> 0 | BW8: =[1]Хрящев!E5 -> 10 | BX8: =BW8*F8 -> 0 | BY8: =[1]Красн!E5 -> 0 | BZ8: =BY8*F8 -> 0 | CA8: =[1]КГГ!E5 -> 24 | CB8: =CA8*F8 -> 0 | CC8: =[1]НСвет!E5 -> 10 | CD8: =CC8*F8 -> 0 | CE8: =[1]радуга!E5 -> 70 | CF8: =CE8*F8 -> 0 | CG8: =[1]ЦБ!E5 -> 0 | CH8: =CG8*F8 -> 0 | CI8: ='[1]10115'!E5 -> 0 | CJ8: =CI8*F8 -> 0 | CK8: ='[1]ЦДТ №1'!E5 -> 0 | CL8: =CK8*F8 -> 0 | CM8: ='[1]ЦДТ № 4'!E5 -> 0 | CN8: =CM8*F8 -> 0 | CO8: =[1]Калинка!E5 -> 48 | CP8: =CO8*F8 -> 0 | CQ8: =[1]Ягодка!E5 -> 30 | CR8: =CQ8*F8 -> 0 | CS8: =[1]Березка!E5 -> 5 | CT8: =CS8*F8 -> 0 | CU8: =[1]Петушок!E5 -> 5 | CV8: =CU8*F8 -> 0 | CW8: =[1]Аленка!E5 -> 15 | CX8: =CW8*F8 -> 0 | CY8: =[1]Барвинок!E5 -> 5 | CZ8: =CY8*F8 -> 0 | DA8: ='[1]Солнышко 10'!E5 -> 3 | DB8: =DA8*F8 -> 0 | DC8: =[1]Золушка!E5 -> 0 | DD8: =DC8*F8 -> 0 | DE8: =[1]Ивушка!E5 -> 10 | DF8: =DE8*F8 -> 0 | DG8: =[1]Сказка!E5 -> 0 | DH8: =DG8*F8 -> 0 | DI8: =[1]Веснушки!E5 -> 42 | DJ8: =DI8*F8 -> 0 | DK8: =[1]кмц!E5 -> 10 | DL8: =DK8*F8 -> 0
A9: 4 | B9: Хлорная известь (упаковка 0,7кг) | C9: шт | D9: =G9+++I9+K9+M9+O9+Q9+S9+U9+W9+Y9+AA9+AC9+AE9+AG9+AI9+AK9+AM9+AO9+AQ9+AS9+AU9+AW9+AY9+BA9+BC9+BE9+BG9+BI9+BK9+BM9+BO9+BQ9+BS9+BU9+BW9+BY9+CA9+CC9+CE9+CG9+CI9+CK9+CM9+CO9+CQ9+CS9+CU9+CW9+CY9+DA9+DC9+DE9+DG9+DI9+DK9 -> 1078 | E9: =D9*F9 -> 0 | G9: ='[1]школа 1'!E6 -> 50 | H9: =G9*F9 -> 0 | I9: ='[1]школа 2'!E6 -> 0 | J9: =I9*F9 -> 0 | K9: =[1]Герас!E6 -> 50 | L9: =K9*F9 -> 0 | M9: ='[1]школа 4'!E6 -> 100 | N9: =M9*F9 -> 0 | O9: ='[1]школа 5'!E6 -> 50 | P9: =O9*F9 -> 0 | Q9: ='[1]школа 6'!E6 -> 25 | R9: =Q9*F9 -> 0 | S9: ='[1]школа 7'!E6 -> 50 | T9: =S9*F9 -> 0 | U9: ='[1]школа 8'!E6 -> 0 | V9: =U9*F9 -> 0 | W9: ='[1]школа 9'!E6 -> 0 | X9: =W9*F9 -> 0 | Y9: ='[1]школа 10'!E6 -> 50 | Z9: =Y9*F9 -> 0 | AA9: ='[1]школа 11'!E6 -> 30 | AB9: =AA9*F9 -> 0 | AC9: =[1]Скелев!E6 -> 0 | AD9: =AC9*F9 -> 0 | AE9: ='[1]школа 13'!E6 -> 0 | AF9: =AE9*F9 -> 0 | AG9: ='[1]школа 14'!E6 -> 10 | AH9: =AG9*F9 -> 0 | AI9: ='[1]школа 15'!E6 -> 10 | AJ9: =AI9*F9 -> 0 | AK9: ='[1]школа 16'!E6 -> 0 | AL9: =AK9*F9 -> 0 | AM9: ='[1]школа 17'!E6 -> 27 | AN9: =AM9*F9 -> 0 | AO9: ='[1]школа 18'!E6 -> 0 | AP9: =AO9*F9 -> 0 | AQ9: ='[1]школа 19'!E6 -> 15 | AR9: =AQ9*F9 -> 0 | AS9: ='[1]В-ЛОГ'!E6 -> 0 | AT9: =AS9*F9 -> 0 | AU9: ='[1]школа 21'!E6 -> 50 | AV9: =AU9*F9 -> 0 | AW9: ='[1]школа 22)'!E6 -> 0 | AX9: =AW9*F9 -> 0 | AY9: =[1]БСуход!E6 -> 60 | AZ9: =AY9*F9 -> 0 | BA9: ='[1]школа 24'!E6 -> 30 | BB9: =BA9*F9 -> 0 | BC9: =[1]Шевыр!E6 -> 20 | BD9: =BC9*F9 -> 0 | BE9: =[1]дн!E6 -> 30 | BF9: =BE9*F9 -> 0 | BG9: =[1]Новоанн!E6 -> 60 | BH9: =BG9*F9 -> 0 | BI9: ='[1]Н-А'!E6 -> 15 | BJ9: =BI9*F9 -> 0 | BK9: =[1]Ордж!E6 -> 15 | BL9: =BK9*F9 -> 0 | BM9: =[1]Пархом!E6 -> 0 | BN9: =BM9*F9 -> 0 | BO9: =[1]Семейк!E6 -> 20 | BP9: =BO9*F9 -> 0 | BQ9: =[1]Пореч!E6 -> 50 | BR9: =BQ9*F9 -> 0 | BS9: =[1]Самсон!E6 -> 0 | BT9: =BS9*F9 -> 0 | BU9: =[1]Тал!E6 -> 0 | BV9: =BU9*F9 -> 0 | BW9: =[1]Хрящев!E6 -> 0 | BX9: =BW9*F9 -> 0 | BY9: =[1]Красн!E6 -> 0 | BZ9: =BY9*F9 -> 0 | CA9: =[1]КГГ!E6 -> 35 | CB9: =CA9*F9 -> 0 | CC9: =[1]НСвет!E6 -> 40 | CD9: =CC9*F9 -> 0 | CE9: =[1]радуга!E6 -> 30 | CF9: =CE9*F9 -> 0 | CG9: =[1]ЦБ!E6 -> 0 | CH9: =CG9*F9 -> 0 | CI9: ='[1]10115'!E6 -> 0 | CJ9: =CI9*F9 -> 0 | CK9: ='[1]ЦДТ №1'!E6 -> 0 | CL9: =CK9*F9 -> 0 | CM9: ='[1]ЦДТ № 4'!E6 -> 0 | CN9: =CM9*F9 -> 0 | CO9: =[1]Калинка!E6 -> 30 | CP9: =CO9*F9 -> 0 | CQ9: =[1]Ягодка!E6 -> 0 | CR9: =CQ9*F9 -> 0 | CS9: =[1]Березка!E6 -> 0 | CT9: =CS9*F9 -> 0 | CU9: =[1]Петушок!E6 -> 10 | CV9: =CU9*F9 -> 0 | CW9: =[1]Аленка!E6 -> 20 | CX9: =CW9*F9 -> 0 | CY9: =[1]Барвинок!E6 -> 10 | CZ9: =CY9*F9 -> 0 | DA9: ='[1]Солнышко 10'!E6 -> 6 | DB9: =DA9*F9 -> 0 | DC9: =[1]Золушка!E6 -> 0 | DD9: =DC9*F9 -> 0 | DE9: =[1]Ивушка!E6 -> 20 | DF9: =DE9*F9 -> 0 | DG9: =[1]Сказка!E6 -> 15 | DH9: =DG9*F9 -> 0 | DI9: =[1]Веснушки!E6 -> 45 | DJ9: =DI9*F9 -> 0 | DK9: =[1]кмц!E6 -> 0 | DL9: =DK9*F9 -> 0
A10: 5 | B10: Сода кальцинированная (щелок) 600гр. | C10: шт | D10: =G10+++I10+K10+M10+O10+Q10+S10+U10+W10+Y10+AA10+AC10+AE10+AG10+AI10+AK10+AM10+AO10+AQ10+AS10+AU10+AW10+AY10+BA10+BC10+BE10+BG10+BI10+BK10+BM10+BO10+BQ10+BS10+BU10+BW10+BY10+CA10+CC10+CE10+CG10+CI10+CK10+CM10+CO10+CQ10+CS10+CU10+CW10+CY10+DA10+DC10+DE10+DG10+DI10+DK10 -> 685 | E10: =D10*F10 -> 0 | G10: ='[1]школа 1'!E7 -> 30 | H10: =G10*F10 -> 0 | I10: ='[1]школа 2'!E7 -> 120 | J10: =I10*F10 -> 0 | K10: =[1]Герас!E7 -> 10 | L10: =K10*F10 -> 0 | M10: ='[1]школа 4'!E7 -> 10 | N10: =M10*F10 -> 0 | O10: ='[1]школа 5'!E7 -> 15 | P10: =O10*F10 -> 0 | Q10: ='[1]школа 6'!E7 -> 30 | R10: =Q10*F10 -> 0 | S10: ='[1]школа 7'!E7 -> 20 | T10: =S10*F10 -> 0 | U10: ='[1]школа 8'!E7 -> 0 | V10: =U10*F10 -> 0 | W10: ='[1]школа 9'!E7 -> 0 | X10: =W10*F10 -> 0 | Y10: ='[1]школа 10'!E7 -> 30 | Z10: =Y10*F10 -> 0 | AA10: ='[1]школа 11'!E7 -> 5 | AB10: =AA10*F10 -> 0 | AC10: =[1]Скелев!E7 -> 0 | AD10: =AC10*F10 -> 0 | AE10: ='[1]школа 13'!E7 -> 20 | AF10: =AE10*F10 -> 0 | AG10: ='[1]школа 14'!E7 -> 10 | AH10: =AG10*F10 -> 0 | AI10: ='[1]школа 15'!E7 -> 5 | AJ10: =AI10*F10 -> 0 | AK10: ='[1]школа 16'!E7 -> 0 | AL10: =AK10*F10 -> 0 | AM10: ='[1]школа 17'!E7 -> 0 | AN10: =AM10*F10 -> 0 | AO10: ='[1]школа 18'!E7 -> 0 | AP10: =AO10*F10 -> 0 | AQ10: ='[1]школа 19'!E7 -> 10 | AR10: =AQ10*F10 -> 0 | AS10: ='[1]В-ЛОГ'!E7 -> 0 | AT10: =AS10*F10 -> 0 | AU10: ='[1]школа 21'!E7 -> 50 | AV10: =AU10*F10 -> 0 | AW10: ='[1]школа 22)'!E7 -> 0 | AX10: =AW10*F10 -> 0 | AY10: =[1]БСуход!E7 -> 10 | AZ10: =AY10*F10 -> 0 | BA10: ='[1]школа 24'!E7 -> 20 | BB10: =BA10*F10 -> 0 | BC10: =[1]Шевыр!E7 -> 5 | BD10: =BC10*F10 -> 0 | BE10: =[1]дн!E7 -> 0 | BF10: =BE10*F10 -> 0 | BG10: =[1]Новоанн!E7 -> 50 | BH10: =BG10*F10 -> 0 | BI10: ='[1]Н-А'!E7 -> 0 | BJ10: =BI10*F10 -> 0 | BK10: =[1]Ордж!E7 -> 18 | BL10: =BK10*F10 -> 0 | BM10: =[1]Пархом!E7 -> 0 | BN10: =BM10*F10 -> 0 | BO10: =[1]Семейк!E7 -> 10 | BP10: =BO10*F10 -> 0 | BQ10: =[1]Пореч!E7 -> 20 | BR10: =BQ10*F10 -> 0 | BS10: =[1]Самсон!E7 -> 0 | BT10: =BS10*F10 -> 0 | BU10: =[1]Тал!E7 -> 0 | BV10: =BU10*F10 -> 0 | BW10: =[1]Хрящев!E7 -> 0 | BX10: =BW10*F10 -> 0 | BY10: =[1]Красн!E7 -> 0 | BZ10: =BY10*F10 -> 0 | CA10: =[1]КГГ!E7 -> 30 | CB10: =CA10*F10 -> 0 | CC10: =[1]НСвет!E7 -> 15 | CD10: =CC10*F10 -> 0 | CE10: =[1]радуга!E7 -> 60 | CF10: =CE10*F10 -> 0 | CG10: =[1]ЦБ!E7 -> 0 | CH10: =CG10*F10 -> 0 | CI10: ='[1]10115'!E7 -> 0 | CJ10: =CI10*F10 -> 0 | CK10: ='[1]ЦДТ №1'!E7 -> 0 | CL10: =CK10*F10 -> 0 | CM10: ='[1]ЦДТ № 4'!E7 -> 0 | CN10: =CM10*F10 -> 0 | CO10: =[1]Калинка!E7 -> 24 | CP10: =CO10*F10 -> 0 | CQ10: =[1]Ягодка!E7 -> 0 | CR10: =CQ10*F10 -> 0 | CS10: =[1]Березка!E7 -> 5 | CT10: =CS10*F10 -> 0 | CU10: =[1]Петушок!E7 -> 5 | CV10: =CU10*F10 -> 0 | CW10: =[1]Аленка!E7 -> 10 | CX10: =CW10*F10 -> 0 | CY10: =[1]Барвинок!E7 -> 5 | CZ10: =CY10*F10 -> 0 | DA10: ='[1]Солнышко 10'!E7 -> 3 | DB10: =DA10*F10 -> 0 | DC10: =[1]Золушка!E7 -> 0 | DD10: =DC10*F10 -> 0 | DE10: =[1]Ивушка!E7 -> 20 | DF10: =DE10*F10 -> 0 | DG10: =[1]Сказка!E7 -> 10 | DH10: =DG10*F10 -> 0 | DI10: =[1]Веснушки!E7 -> 0 | DJ10: =DI10*F10 -> 0 | DK10: =[1]кмц!E7 -> 0 | DL10: =DK10*F10 -> 0
A11: 6 | B11: Стиральная порошок (упаковка 3 кг, автомат) | C11: шт | D11: =G11+++I11+K11+M11+O11+Q11+S11+U11+W11+Y11+AA11+AC11+AE11+AG11+AI11+AK11+AM11+AO11+AQ11+AS11+AU11+AW11+AY11+BA11+BC11+BE11+BG11+BI11+BK11+BM11+BO11+BQ11+BS11+BU11+BW11+BY11+CA11+CC11+CE11+CG11+CI11+CK11+CM11+CO11+CQ11+CS11+CU11+CW11+CY11+DA11+DC11+DE11+DG11+DI11+DK11 -> 81 | E11: =D11*F11 -> 0 | G11: ='[1]школа 1'!E8 -> 0 | H11: =G11*F11 -> 0 | I11: ='[1]школа 2'!E8 -> 0 | J11: =I11*F11 -> 0 | K11: =[1]Герас!E8 -> 6 | L11: =K11*F11 -> 0 | M11: ='[1]школа 4'!E8 -> 2 | N11: =M11*F11 -> 0 | O11: ='[1]школа 5'!E8 -> 0 | P11: =O11*F11 -> 0 | Q11: ='[1]школа 6'!E8 -> 0 | R11: =Q11*F11 -> 0 | S11: ='[1]школа 7'!E8 -> 0 | T11: =S11*F11 -> 0 | U11: ='[1]школа 8'!E8 -> 0 | V11: =U11*F11 -> 0 | W11: ='[1]школа 9'!E8 -> 0 | X11: =W11*F11 -> 0 | Y11: ='[1]школа 10'!E8 -> 0 | Z11: =Y11*F11 -> 0 | AA11: ='[1]школа 11'!E8 -> 0 | AB11: =AA11*F11 -> 0 | AC11: =[1]Скелев!E8 -> 0 | AD11: =AC11*F11 -> 0 | AE11: ='[1]школа 13'!E8 -> 4 | AF11: =AE11*F11 -> 0 | AG11: ='[1]школа 14'!E8 -> 0 | AH11: =AG11*F11 -> 0 | AI11: ='[1]школа 15'!E8 -> 0 | AJ11: =AI11*F11 -> 0 | AK11: ='[1]школа 16'!E8 -> 0 | AL11: =AK11*F11 -> 0 | AM11: ='[1]школа 17'!E8 -> 0 | AN11: =AM11*F11 -> 0 | AO11: ='[1]школа 18'!E8 -> 0 | AP11: =AO11*F11 -> 0 | AQ11: ='[1]школа 19'!E8 -> 0 | AR11: =AQ11*F11 -> 0 | AS11: ='[1]В-ЛОГ'!E8 -> 0 | AT11: =AS11*F11 -> 0 | AU11: ='[1]школа 21'!E8 -> 3 | AV11: =AU11*F11 -> 0 | AW11: ='[1]школа 22)'!E8 -> 3 | AX11: =AW11*F11 -> 0 | AY11: =[1]БСуход!E8 -> 0 | AZ11: =AY11*F11 -> 0 | BA11: ='[1]школа 24'!E8 -> 0 | BB11: =BA11*F11 -> 0 | BC11: =[1]Шевыр!E8 -> 0 | BD11: =BC11*F11 -> 0 | BE11: =[1]дн!E8 -> 0 | BF11: =BE11*F11 -> 0 | BG11: =[1]Новоанн!E8 -> 8 | BH11: =BG11*F11 -> 0 | BI11: ='[1]Н-А'!E8 -> 0 | BJ11: =BI11*F11 -> 0 | BK11: =[1]Ордж!E8 -> 0 | BL11: =BK11*F11 -> 0 | BM11: =[1]Пархом!E8 -> 5 | BN11: =BM11*F11 -> 0 | BO11: =[1]Семейк!E8 -> 3 | BP11: =BO11*F11 -> 0 | BQ11: =[1]Пореч!E8 -> 3 | BR11: =BQ11*F11 -> 0 | BS11: =[1]Самсон!E8 -> 0 | BT11: =BS11*F11 -> 0 | BU11: =[1]Тал!E8 -> 0 | BV11: =BU11*F11 -> 0 | BW11: =[1]Хрящев!E8 -> 0 | BX11: =BW11*F11 -> 0 | BY11: =[1]Красн!E8 -> 0 | BZ11: =BY11*F11 -> 0 | CA11: =[1]КГГ!E8 -> 0 | CB11: =CA11*F11 -> 0 | CC11: =[1]НСвет!E8 -> 0 | CD11: =CC11*F11 -> 0 | CE11: =[1]радуга!E8 -> 5 | CF11: =CE11*F11 -> 0 | CG11: =[1]ЦБ!E8 -> 0 | CH11: =CG11*F11 -> 0 | CI11: ='[1]10115'!E8 -> 0 | CJ11: =CI11*F11 -> 0 | CK11: ='[1]ЦДТ №1'!E8 -> 0 | CL11: =CK11*F11 -> 0 | CM11: ='[1]ЦДТ № 4'!E8 -> 0 | CN11: =CM11*F11 -> 0 | CO11: =[1]Калинка!E8 -> 5 | CP11: =CO11*F11 -> 0 | CQ11: =[1]Ягодка!E8 -> 8 | CR11: =CQ11*F11 -> 0 | CS11: =[1]Березка!E8 -> 0 | CT11: =CS11*F11 -> 0 | CU11: =[1]Петушок!E8 -> 1 | CV11: =CU11*F11 -> 0 | CW11: =[1]Аленка!E8 -> 5 | CX11: =CW11*F11 -> 0 | CY11: =[1]Барвинок!E8 -> 2 | CZ11: =CY11*F11 -> 0 | DA11: ='[1]Солнышко 10'!E8 -> 0 | DB11: =DA11*F11 -> 0 | DC11: =[1]Золушка!E8 -> 0 | DD11: =DC11*F11 -> 0 | DE11: =[1]Ивушка!E8 -> 10 | DF11: =DE11*F11 -> 0 | DG11: =[1]Сказка!E8 -> 1 | DH11: =DG11*F11 -> 0 | DI11: =[1]Веснушки!E8 -> 6 | DJ11: =DI11*F11 -> 0 | DK11: =[1]кмц!E8 -> 1 | DL11: =DK11*F11 -> 0
A12: 7 | B12: Бумага для офисной техники (ксероксная, пачка 500 листов формат А4) | C12: пачка | D12: =G12+++I12+K12+M12+O12+Q12+S12+U12+W12+Y12+AA12+AC12+AE12+AG12+AI12+AK12+AM12+AO12+AQ12+AS12+AU12+AW12+AY12+BA12+BC12+BE12+BG12+BI12+BK12+BM12+BO12+BQ12+BS12+BU12+BW12+BY12+CA12+CC12+CE12+CG12+CI12+CK12+CM12+CO12+CQ12+CS12+CU12+CW12+CY12+DA12+DC12+DE12+DG12+DI12+DK12 -> 656 | E12: =D12*F12 -> 0 | G12: ='[1]школа 1'!E9 -> 30 | H12: =G12*F12 -> 0 | I12: ='[1]школа 2'!E9 -> 20 | J12: =I12*F12 -> 0 | K12: =[1]Герас!E9 -> 15 | L12: =K12*F12 -> 0 | M12: ='[1]школа 4'!E9 -> 20 | N12: =M12*F12 -> 0 | O12: ='[1]школа 5'!E9 -> 5 | P12: =O12*F12 -> 0 | Q12: ='[1]школа 6'!E9 -> 25 | R12: =Q12*F12 -> 0 | S12: ='[1]школа 7'!E9 -> 10 | T12: =S12*F12 -> 0 | U12: ='[1]школа 8'!E9 -> 0 | V12: =U12*F12 -> 0 | W12: ='[1]школа 9'!E9 -> 10 | X12: =W12*F12 -> 0 | Y12: ='[1]школа 10'!E9 -> 27 | Z12: =Y12*F12 -> 0 | AA12: ='[1]школа 11'!E9 -> 7 | AB12: =AA12*F12 -> 0 | AC12: =[1]Скелев!E9 -> 5 | AD12: =AC12*F12 -> 0 | AE12: ='[1]школа 13'!E9 -> 15 | AF12: =AE12*F12 -> 0 | AG12: ='[1]школа 14'!E9 -> 10 | AH12: =AG12*F12 -> 0 | AI12: ='[1]школа 15'!E9 -> 5 | AJ12: =AI12*F12 -> 0 | AK12: ='[1]школа 16'!E9 -> 0 | AL12: =AK12*F12 -> 0 | AM12: ='[1]школа 17'!E9 -> 0 | AN12: =AM12*F12 -> 0 | AO12: ='[1]школа 18'!E9 -> 8 | AP12: =AO12*F12 -> 0 | AQ12: ='[1]школа 19'!E9 -> 15 | AR12: =AQ12*F12 -> 0 | AS12: ='[1]В-ЛОГ'!E9 -> 2 | AT12: =AS12*F12 -> 0 | AU12: ='[1]школа 21'!E9 -> 20 | AV12: =AU12*F12 -> 0 | AW12: ='[1]школа 22)'!E9 -> 15 | AX12: =AW12*F12 -> 0 | AY12: =[1]БСуход!E9 -> 15 | AZ12: =AY12*F12 -> 0 | BA12: ='[1]школа 24'!E9 -> 10 | BB12: =BA12*F12 -> 0 | BC12: =[1]Шевыр!E9 -> 10 | BD12: =BC12*F12 -> 0 | BE12: =[1]дн!E9 -> 10 | BF12: =BE12*F12 -> 0 | BG12: =[1]Новоанн!E9 -> 35 | BH12: =BG12*F12 -> 0 | BI12: ='[1]Н-А'!E9 -> 5 | BJ12: =BI12*F12 -> 0 | BK12: =[1]Ордж!E9 -> 15 | BL12: =BK12*F12 -> 0 | BM12: =[1]Пархом!E9 -> 20 | BN12: =BM12*F12 -> 0 | BO12: =[1]Семейк!E9 -> 10 | BP12: =BO12*F12 -> 0 | BQ12: =[1]Пореч!E9 -> 10 | BR12: =BQ12*F12 -> 0 | BS12: =[1]Самсон!E9 -> 0 | BT12: =BS12*F12 -> 0 | BU12: =[1]Тал!E9 -> 0 | BV12: =BU12*F12 -> 0 | BW12: =[1]Хрящев!E9 -> 5 | BX12: =BW12*F12 -> 0 | BY12: =[1]Красн!E9 -> 5 | BZ12: =BY12*F12 -> 0 | CA12: =[1]КГГ!E9 -> 20 | CB12: =CA12*F12 -> 0 | CC12: =[1]НСвет!E9 -> 30 | CD12: =CC12*F12 -> 0 | CE12: =[1]радуга!E9 -> 20 | CF12: =CE12*F12 -> 0 | CG12: =[1]ЦБ!E9 -> 30 | CH12: =CG12*F12 -> 0 | CI12: ='[1]10115'!E9 -> 50 | CJ12: =CI12*F12 -> 0 | CK12: ='[1]ЦДТ №1'!E9 -> 0 | CL12: =CK12*F12 -> 0 | CM12: ='[1]ЦДТ № 4'!E9 -> 0 | CN12: =CM12*F12 -> 0 | CO12: =[1]Калинка!E9 -> 5 | CP12: =CO12*F12 -> 0 | CQ12: =[1]Ягодка!E9 -> 15 | CR12: =CQ12*F12 -> 0 | CS12: =[1]Березка!E9 -> 5 | CT12: =CS12*F12 -> 0 | CU12: =[1]Петушок!E9 -> 3 | CV12: =CU12*F12 -> 0 | CW12: =[1]Аленка!E9 -> 20 | CX12: =CW12*F12 -> 0 | CY12: =[1]Барвинок!E9 -> 5 | CZ12: =CY12*F12 -> 0 | DA12: ='[1]Солнышко 10'!E9 -> 9 | DB12: =DA12*F12 -> 0 | DC12: =[1]Золушка!E9 -> 10 | DD12: =DC12*F12 -> 0 | DE12: =[1]Ивушка!E9 -> 10 | DF12: =DE12*F12 -> 0 | DG12: =[1]Сказка!E9 -> 5 | DH12: =DG12*F12 -> 0 | DI12: =[1]Веснушки!E9 -> 5 | DJ12: =DI12*F12 -> 0 | DK12: =[1]кмц!E9 -> 0 | DL12: =DK12*F12 -> 0
A13: 8 | B13: Мыло хозяйственное 72 % (200г) | C13: шт | D13: =G13+++I13+K13+M13+O13+Q13+S13+U13+W13+Y13+AA13+AC13+AE13+AG13+AI13+AK13+AM13+AO13+AQ13+AS13+AU13+AW13+AY13+BA13+BC13+BE13+BG13+BI13+BK13+BM13+BO13+BQ13+BS13+BU13+BW13+BY13+CA13+CC13+CE13+CG13+CI13+CK13+CM13+CO13+CQ13+CS13+CU13+CW13+CY13+DA13+DC13+DE13+DG13+DI13+DK13 -> 708 | E13: =D13*F13 -> 0 | G13: ='[1]школа 1'!E10 -> 0 | H13: =G13*F13 -> 0 | I13: ='[1]школа 2'!E10 -> 15 | J13: =I13*F13 -> 0 | K13: =[1]Герас!E10 -> 20 | L13: =K13*F13 -> 0 | M13: ='[1]школа 4'!E10 -> 0 | N13: =M13*F13 -> 0 | O13: ='[1]школа 5'!E10 -> 0 | P13: =O13*F13 -> 0 | Q13: ='[1]школа 6'!E10 -> 30 | R13: =Q13*F13 -> 0 | S13: ='[1]школа 7'!E10 -> 19 | T13: =S13*F13 -> 0 | U13: ='[1]школа 8'!E10 -> 0 | V13: =U13*F13 -> 0 | W13: ='[1]школа 9'!E10 -> 0 | X13: =W13*F13 -> 0 | Y13: ='[1]школа 10'!E10 -> 30 | Z13: =Y13*F13 -> 0 | AA13: ='[1]школа 11'!E10 -> 15 | AB13: =AA13*F13 -> 0 | AC13: =[1]Скелев!E10 -> 0 | AD13: =AC13*F13 -> 0 | AE13: ='[1]школа 13'!E10 -> 20 | AF13: =AE13*F13 -> 0 | AG13: ='[1]школа 14'!E10 -> 10 | AH13: =AG13*F13 -> 0 | AI13: ='[1]школа 15'!E10 -> 0 | AJ13: =AI13*F13 -> 0 | AK13: ='[1]школа 16'!E10 -> 0 | AL13: =AK13*F13 -> 0 | AM13: ='[1]школа 17'!E10 -> 0 | AN13: =AM13*F13 -> 0 | AO13: ='[1]школа 18'!E10 -> 0 | AP13: =AO13*F13 -> 0 | AQ13: ='[1]школа 19'!E10 -> 0 | AR13: =AQ13*F13 -> 0 | AS13: ='[1]В-ЛОГ'!E10 -> 0 | AT13: =AS13*F13 -> 0 | AU13: ='[1]школа 21'!E10 -> 50 | AV13: =AU13*F13 -> 0 | AW13: ='[1]школа 22)'!E10 -> 0 | AX13: =AW13*F13 -> 0 | AY13: =[1]БСуход!E10 -> 15 | AZ13: =AY13*F13 -> 0 | BA13: ='[1]школа 24'!E10 -> 20 | BB13: =BA13*F13 -> 0 | BC13: =[1]Шевыр!E10 -> 5 | BD13: =BC13*F13 -> 0 | BE13: =[1]дн!E10 -> 0 | BF13: =BE13*F13 -> 0 | BG13: =[1]Новоанн!E10 -> 20 | BH13: =BG13*F13 -> 0 | BI13: ='[1]Н-А'!E10 -> 10 | BJ13: =BI13*F13 -> 0 | BK13: =[1]Ордж!E10 -> 5 | BL13: =BK13*F13 -> 0 | BM13: =[1]Пархом!E10 -> 0 | BN13: =BM13*F13 -> 0 | BO13: =[1]Семейк!E10 -> 20 | BP13: =BO13*F13 -> 0 | BQ13: =[1]Пореч!E10 -> 20 | BR13: =BQ13*F13 -> 0 | BS13: =[1]Самсон!E10 -> 0 | BT13: =BS13*F13 -> 0 | BU13: =[1]Тал!E10 -> 0 | BV13: =BU13*F13 -> 0 | BW13: =[1]Хрящев!E10 -> 0 | BX13: =BW13*F13 -> 0 | BY13: =[1]Красн!E10 -> 0 | BZ13: =BY13*F13 -> 0 | CA13: =[1]КГГ!E10 -> 20 | CB13: =CA13*F13 -> 0 | CC13: =[1]НСвет!E10 -> 20 | CD13: =CC13*F13 -> 0 | CE13: =[1]радуга!E10 -> 20 | CF13: =CE13*F13 -> 0 | CG13: =[1]ЦБ!E10 -> 0 | CH13: =CG13*F13 -> 0 | CI13: ='[1]10115'!E10 -> 0 | CJ13: =CI13*F13 -> 0 | CK13: ='[1]ЦДТ №1'!E10 -> 0 | CL13: =CK13*F13 -> 0 | CM13: ='[1]ЦДТ № 4'!E10 -> 0 | CN13: =CM13*F13 -> 0 | CO13: =[1]Калинка!E10 -> 49 | CP13: =CO13*F13 -> 0 | CQ13: =[1]Ягодка!E10 -> 160 | CR13: =CQ13*F13 -> 0 | CS13: =[1]Березка!E10 -> 0 | CT13: =CS13*F13 -> 0 | CU13: =[1]Петушок!E10 -> 5 | CV13: =CU13*F13 -> 0 | CW13: =[1]Аленка!E10 -> 0 | CX13: =CW13*F13 -> 0 | CY13: =[1]Барвинок!E10 -> 0 | CZ13: =CY13*F13 -> 0 | DA13: ='[1]Солнышко 10'!E10 -> 0 | DB13: =DA13*F13 -> 0 | DC13: =[1]Золушка!E10 -> 0 | DD13: =DC13*F13 -> 0 | DE13: =[1]Ивушка!E10 -> 40 | DF13: =DE13*F13 -> 0 | DG13: =[1]Сказка!E10 -> 20 | DH13: =DG13*F13 -> 0 | DI13: =[1]Веснушки!E10 -> 50 | DJ13: =DI13*F13 -> 0 | DK13: =[1]кмц!E10 -> 0 | DL13: =DK13*F13 -> 0
A14: 9 | B14: Мыло жидкое, канистра 5л. | C14: шт | D14: =G14+++I14+K14+M14+O14+Q14+S14+U14+W14+Y14+AA14+AC14+AE14+AG14+AI14+AK14+AM14+AO14+AQ14+AS14+AU14+AW14+AY14+BA14+BC14+BE14+BG14+BI14+BK14+BM14+BO14+BQ14+BS14+BU14+BW14+BY14+CA14+CC14+CE14+CG14+CI14+CK14+CM14+CO14+CQ14+CS14+CU14+CW14+CY14+DA14+DC14+DE14+DG14+DI14+DK14 -> 91 | E14: =D14*F14 -> 0 | G14: ='[1]школа 1'!E11 -> 0 | H14: =G14*F14 -> 0 | I14: ='[1]школа 2'!E11 -> 3 | J14: =I14*F14 -> 0 | K14: =[1]Герас!E11 -> 3 | L14: =K14*F14 -> 0 | M14: ='[1]школа 4'!E11 -> 3 | N14: =M14*F14 -> 0 | O14: ='[1]школа 5'!E11 -> 3 | P14: =O14*F14 -> 0 | Q14: ='[1]школа 6'!E11 -> 2 | R14: =Q14*F14 -> 0 | S14: ='[1]школа 7'!E11 -> 3 | T14: =S14*F14 -> 0 | U14: ='[1]школа 8'!E11 -> 0 | V14: =U14*F14 -> 0 | W14: ='[1]школа 9'!E11 -> 4 | X14: =W14*F14 -> 0 | Y14: ='[1]школа 10'!E11 -> 3 | Z14: =Y14*F14 -> 0 | AA14: ='[1]школа 11'!E11 -> 1 | AB14: =AA14*F14 -> 0 | AC14: =[1]Скелев!E11 -> 0 | AD14: =AC14*F14 -> 0 | AE14: ='[1]школа 13'!E11 -> 2 | AF14: =AE14*F14 -> 0 | AG14: ='[1]школа 14'!E11 -> 1 | AH14: =AG14*F14 -> 0 | AI14: ='[1]школа 15'!E11 -> 0 | AJ14: =AI14*F14 -> 0 | AK14: ='[1]школа 16'!E11 -> 0 | AL14: =AK14*F14 -> 0 | AM14: ='[1]школа 17'!E11 -> 0 | AN14: =AM14*F14 -> 0 | AO14: ='[1]школа 18'!E11 -> 0 | AP14: =AO14*F14 -> 0 | AQ14: ='[1]школа 19'!E11 -> 2 | AR14: =AQ14*F14 -> 0 | AS14: ='[1]В-ЛОГ'!E11 -> 0 | AT14: =AS14*F14 -> 0 | AU14: ='[1]школа 21'!E11 -> 3 | AV14: =AU14*F14 -> 0 | AW14: ='[1]школа 22)'!E11 -> 2 | AX14: =AW14*F14 -> 0 | AY14: =[1]БСуход!E11 -> 4 | AZ14: =AY14*F14 -> 0 | BA14: ='[1]школа 24'!E11 -> 3 | BB14: =BA14*F14 -> 0 | BC14: =[1]Шевыр!E11 -> 0 | BD14: =BC14*F14 -> 0 | BE14: =[1]дн!E11 -> 0 | BF14: =BE14*F14 -> 0 | BG14: =[1]Новоанн!E11 -> 15 | BH14: =BG14*F14 -> 0 | BI14: ='[1]Н-А'!E11 -> 3 | BJ14: =BI14*F14 -> 0 | BK14: =[1]Ордж!E11 -> 0 | BL14: =BK14*F14 -> 0 | BM14: =[1]Пархом!E11 -> 0 | BN14: =BM14*F14 -> 0 | BO14: =[1]Семейк!E11 -> 2 | BP14: =BO14*F14 -> 0 | BQ14: =[1]Пореч!E11 -> 3 | BR14: =BQ14*F14 -> 0 | BS14: =[1]Самсон!E11 -> 0 | BT14: =BS14*F14 -> 0 | BU14: =[1]Тал!E11 -> 0 | BV14: =BU14*F14 -> 0 | BW14: =[1]Хрящев!E11 -> 3 | BX14: =BW14*F14 -> 0 | BY14: =[1]Красн!E11 -> 0 | BZ14: =BY14*F14 -> 0 | CA14: =[1]КГГ!E11 -> 10 | CB14: =CA14*F14 -> 0 | CC14: =[1]НСвет!E11 -> 3 | CD14: =CC14*F14 -> 0 | CE14: =[1]радуга!E11 -> 3 | CF14: =CE14*F14 -> 0 | CG14: =[1]ЦБ!E11 -> 0 | CH14: =CG14*F14 -> 0 | CI14: ='[1]10115'!E11 -> 0 | CJ14: =CI14*F14 -> 0 | CK14: ='[1]ЦДТ №1'!E11 -> 0 | CL14: =CK14*F14 -> 0 | CM14: ='[1]ЦДТ № 4'!E11 -> 0 | CN14: =CM14*F14 -> 0 | CO14: =[1]Калинка!E11 -> 2 | CP14: =CO14*F14 -> 0 | CQ14: =[1]Ягодка!E11 -> 4 | CR14: =CQ14*F14 -> 0 | CS14: =[1]Березка!E11 -> 0 | CT14: =CS14*F14 -> 0 | CU14: =[1]Петушок!E11 -> 1 | CV14: =CU14*F14 -> 0 | CW14: =[1]Аленка!E11 -> 0 | CX14: =CW14*F14 -> 0 | CY14: =[1]Барвинок!E11 -> 0 | CZ14: =CY14*F14 -> 0 | DA14: ='[1]Солнышко 10'!E11 -> 0 | DB14: =DA14*F14 -> 0 | DC14: =[1]Золушка!E11 -> 0 | DD14: =DC14*F14 -> 0 | DE14: =[1]Ивушка!E11 -> 0 | DF14: =DE14*F14 -> 0 | DG14: =[1]Сказка!E11 -> 0 | DH14: =DG14*F14 -> 0 | DI14: =[1]Веснушки!E11 -> 0 | DJ14: =DI14*F14 -> 0 | DK14: =[1]кмц!E11 -> 0 | DL14: =DK14*F14 -> 0
A15: 10 | B15: полотенца бумажные в рулонах, 2-х слоййные, 9,6 м/рул., белые | C15: шт | D15: =G15+++I15+K15+M15+O15+Q15+S15+U15+W15+Y15+AA15+AC15+AE15+AG15+AI15+AK15+AM15+AO15+AQ15+AS15+AU15+AW15+AY15+BA15+BC15+BE15+BG15+BI15+BK15+BM15+BO15+BQ15+BS15+BU15+BW15+BY15+CA15+CC15+CE15+CG15+CI15+CK15+CM15+CO15+CQ15+CS15+CU15+CW15+CY15+DA15+DC15+DE15+DG15+DI15+DK15 -> 226 | E15: =D15*F15 -> 0 | G15: ='[1]школа 1'!E12 -> 0 | H15: =G15*F15 -> 0 | I15: ='[1]школа 2'!E12 -> 0 | J15: =I15*F15 -> 0 | K15: =[1]Герас!E12 -> 10 | L15: =K15*F15 -> 0 | M15: ='[1]школа 4'!E12 -> 10 | N15: =M15*F15 -> 0 | O15: ='[1]школа 5'!E12 -> 10 | P15: =O15*F15 -> 0 | Q15: ='[1]школа 6'!E12 -> 5 | R15: =Q15*F15 -> 0 | S15: ='[1]школа 7'!E12 -> 10 | T15: =S15*F15 -> 0 | U15: ='[1]школа 8'!E12 -> 10 | V15: =U15*F15 -> 0 | W15: ='[1]школа 9'!E12 -> 5 | X15: =W15*F15 -> 0 | Y15: ='[1]школа 10'!E12 -> 0 | Z15: =Y15*F15 -> 0 | AA15: ='[1]школа 11'!E12 -> 0 | AB15: =AA15*F15 -> 0 | AC15: =[1]Скелев!E12 -> 0 | AD15: =AC15*F15 -> 0 | AE15: ='[1]школа 13'!E12 -> 5 | AF15: =AE15*F15 -> 0 | AG15: ='[1]школа 14'!E12 -> 0 | AH15: =AG15*F15 -> 0 | AI15: ='[1]школа 15'!E12 -> 0 | AJ15: =AI15*F15 -> 0 | AK15: ='[1]школа 16'!E12 -> 0 | AL15: =AK15*F15 -> 0 | AM15: ='[1]школа 17'!E12 -> 0 | AN15: =AM15*F15 -> 0 | AO15: ='[1]школа 18'!E12 -> 0 | AP15: =AO15*F15 -> 0 | AQ15: ='[1]школа 19'!E12 -> 5 | AR15: =AQ15*F15 -> 0 | AS15: ='[1]В-ЛОГ'!E12 -> 0 | AT15: =AS15*F15 -> 0 | AU15: ='[1]школа 21'!E12 -> 0 | AV15: =AU15*F15 -> 0 | AW15: ='[1]школа 22)'!E12 -> 0 | AX15: =AW15*F15 -> 0 | AY15: =[1]БСуход!E12 -> 0 | AZ15: =AY15*F15 -> 0 | BA15: ='[1]школа 24'!E12 -> 0 | BB15: =BA15*F15 -> 0 | BC15: =[1]Шевыр!E12 -> 0 | BD15: =BC15*F15 -> 0 | BE15: =[1]дн!E12 -> 10 | BF15: =BE15*F15 -> 0 | BG15: =[1]Новоанн!E12 -> 50 | BH15: =BG15*F15 -> 0 | BI15: ='[1]Н-А'!E12 -> 5 | BJ15: =BI15*F15 -> 0 | BK15: =[1]Ордж!E12 -> 0 | BL15: =BK15*F15 -> 0 | BM15: =[1]Пархом!E12 -> 0 | BN15: =BM15*F15 -> 0 | BO15: =[1]Семейк!E12 -> 5 | BP15: =BO15*F15 -> 0 | BQ15: =[1]Пореч!E12 -> 5 | BR15: =BQ15*F15 -> 0 | BS15: =[1]Самсон!E12 -> 0 | BT15: =BS15*F15 -> 0 | BU15: =[1]Тал!E12 -> 0 | BV15: =BU15*F15 -> 0 | BW15: =[1]Хрящев!E12 -> 0 | BX15: =BW15*F15 -> 0 | BY15: =[1]Красн!E12 -> 0 | BZ15: =BY15*F15 -> 0 | CA15: =[1]КГГ!E12 -> 10 | CB15: =CA15*F15 -> 0 | CC15: =[1]НСвет!E12 -> 0 | CD15: =CC15*F15 -> 0 | CE15: =[1]радуга!E12 -> 10 | CF15: =CE15*F15 -> 0 | CG15: =[1]ЦБ!E12 -> 0 | CH15: =CG15*F15 -> 0 | CI15: ='[1]10115'!E12 -> 0 | CJ15: =CI15*F15 -> 0 | CK15: ='[1]ЦДТ №1'!E12 -> 0 | CL15: =CK15*F15 -> 0 | CM15: ='[1]ЦДТ № 4'!E12 -> 0 | CN15: =CM15*F15 -> 0 | CO15: =[1]Калинка!E12 -> 10 | CP15: =CO15*F15 -> 0 | CQ15: =[1]Ягодка!E12 -> 10 | CR15: =CQ15*F15 -> 0 | CS15: =[1]Березка!E12 -> 5 | CT15: =CS15*F15 -> 0 | CU15: =[1]Петушок!E12 -> 3 | CV15: =CU15*F15 -> 0 | CW15: =[1]Аленка!E12 -> 10 | CX15: =CW15*F15 -> 0 | CY15: =[1]Барвинок!E12 -> 3 | CZ15: =CY15*F15 -> 0 | DA15: ='[1]Солнышко 10'!E12 -> 5 | DB15: =DA15*F15 -> 0 | DC15: =[1]Золушка!E12 -> 0 | DD15: =DC15*F15 -> 0 | DE15: =[1]Ивушка!E12 -> 5 | DF15: =DE15*F15 -> 0 | DG15: =[1]Сказка!E12 -> 0 | DH15: =DG15*F15 -> 0 | DI15: =[1]Веснушки!E12 -> 10 | DJ15: =DI15*F15 -> 0 | DK15: =[1]кмц!E12 -> 0 | DL15: =DK15*F15 -> 0
A16: 11 | B16: Веник сорго двухпрошивной, 80см | C16: шт | D16: =G16+++I16+K16+M16+O16+Q16+S16+U16+W16+Y16+AA16+AC16+AE16+AG16+AI16+AK16+AM16+AO16+AQ16+AS16+AU16+AW16+AY16+BA16+BC16+BE16+BG16+BI16+BK16+BM16+BO16+BQ16+BS16+BU16+BW16+BY16+CA16+CC16+CE16+CG16+CI16+CK16+CM16+CO16+CQ16+CS16+CU16+CW16+CY16+DA16+DC16+DE16+DG16+DI16+DK16 -> 107 | E16: =D16*F16 -> 0 | G16: ='[1]школа 1'!E13 -> 25 | H16: =G16*F16 -> 0 | I16: ='[1]школа 2'!E13 -> 0 | J16: =I16*F16 -> 0 | K16: =[1]Герас!E13 -> 0 | L16: =K16*F16 -> 0 | M16: ='[1]школа 4'!E13 -> 5 | N16: =M16*F16 -> 0 | O16: ='[1]школа 5'!E13 -> 7 | P16: =O16*F16 -> 0 | Q16: ='[1]школа 6'!E13 -> 5 | R16: =Q16*F16 -> 0 | S16: ='[1]школа 7'!E13 -> 0 | T16: =S16*F16 -> 0 | U16: ='[1]школа 8'!E13 -> 0 | V16: =U16*F16 -> 0 | W16: ='[1]школа 9'!E13 -> 0 | X16: =W16*F16 -> 0 | Y16: ='[1]школа 10'!E13 -> 0 | Z16: =Y16*F16 -> 0 | AA16: ='[1]школа 11'!E13 -> 5 | AB16: =AA16*F16 -> 0 | AC16: =[1]Скелев!E13 -> 0 | AD16: =AC16*F16 -> 0 | AE16: ='[1]школа 13'!E13 -> 6 | AF16: =AE16*F16 -> 0 | AG16: ='[1]школа 14'!E13 -> 0 | AH16: =AG16*F16 -> 0 | AI16: ='[1]школа 15'!E13 -> 0 | AJ16: =AI16*F16 -> 0 | AK16: ='[1]школа 16'!E13 -> 0 | AL16: =AK16*F16 -> 0 | AM16: ='[1]школа 17'!E13 -> 0 | AN16: =AM16*F16 -> 0 | AO16: ='[1]школа 18'!E13 -> 0 | AP16: =AO16*F16 -> 0 | AQ16: ='[1]школа 19'!E13 -> 0 | AR16: =AQ16*F16 -> 0 | AS16: ='[1]В-ЛОГ'!E13 -> 0 | AT16: =AS16*F16 -> 0 | AU16: ='[1]школа 21'!E13 -> 10 | AV16: =AU16*F16 -> 0 | AW16: ='[1]школа 22)'!E13 -> 10 | AX16: =AW16*F16 -> 0 | AY16: =[1]БСуход!E13 -> 10 | AZ16: =AY16*F16 -> 0 | BA16: ='[1]школа 24'!E13 -> 0 | BB16: =BA16*F16 -> 0 | BC16: =[1]Шевыр!E13 -> 0 | BD16: =BC16*F16 -> 0 | BE16: =[1]дн!E13 -> 0 | BF16: =BE16*F16 -> 0 | BG16: =[1]Новоанн!E13 -> 10 | BH16: =BG16*F16 -> 0 | BI16: ='[1]Н-А'!E13 -> 0 | BJ16: =BI16*F16 -> 0 | BK16: =[1]Ордж!E13 -> 0 | BL16: =BK16*F16 -> 0 | BM16: =[1]Пархом!E13 -> 10 | BN16: =BM16*F16 -> 0 | BO16: =[1]Семейк!E13 -> 0 | BP16: =BO16*F16 -> 0 | BQ16: =[1]Пореч!E13 -> 0 | BR16: =BQ16*F16 -> 0 | BS16: =[1]Самсон!E13 -> 0 | BT16: =BS16*F16 -> 0 | BU16: =[1]Тал!E13 -> 0 | BV16: =BU16*F16 -> 0 | BW16: =[1]Хрящев!E13 -> 0 | BX16: =BW16*F16 -> 0 | BY16: =[1]Красн!E13 -> 0 | BZ16: =BY16*F16 -> 0 | CA16: =[1]КГГ!E13 -> 0 | CB16: =CA16*F16 -> 0 | CC16: =[1]НСвет!E13 -> 0 | CD16: =CC16*F16 -> 0 | CE16: =[1]радуга!E13 -> 2 | CF16: =CE16*F16 -> 0 | CG16: =[1]ЦБ!E13 -> 0 | CH16: =CG16*F16 -> 0 | CI16: ='[1]10115'!E13 -> 0 | CJ16: =CI16*F16 -> 0 | CK16: ='[1]ЦДТ №1'!E13 -> 0 | CL16: =CK16*F16 -> 0 | CM16: ='[1]ЦДТ № 4'!E13 -> 0 | CN16: =CM16*F16 -> 0 | CO16: =[1]Калинка!E13 -> 0 | CP16: =CO16*F16 -> 0 | CQ16: =[1]Ягодка!E13 -> 0 | CR16: =CQ16*F16 -> 0 | CS16: =[1]Березка!E13 -> 0 | CT16: =CS16*F16 -> 0 | CU16: =[1]Петушок!E13 -> 0 | CV16: =CU16*F16 -> 0 | CW16: =[1]Аленка!E13 -> 0 | CX16: =CW16*F16 -> 0 | CY16: =[1]Барвинок!E13 -> 0 | CZ16: =CY16*F16 -> 0 | DA16: ='[1]Солнышко 10'!E13 -> 0 | DB16: =DA16*F16 -> 0 | DC16: =[1]Золушка!E13 -> 0 | DD16: =DC16*F16 -> 0 | DE16: =[1]Ивушка!E13 -> 0 | DF16: =DE16*F16 -> 0 | DG16: =[1]Сказка!E13 -> 0 | DH16: =DG16*F16 -> 0 | DI16: =[1]Веснушки!E13 -> 0 | DJ16: =DI16*F16 -> 0 | DK16: =[1]кмц!E13 -> 2 | DL16: =DK16*F16 -> 0
A17: 12 | B17: Ведро оцинкованное 12л. | C17: шт | D17: =G17+++I17+K17+M17+O17+Q17+S17+U17+W17+Y17+AA17+AC17+AE17+AG17+AI17+AK17+AM17+AO17+AQ17+AS17+AU17+AW17+AY17+BA17+BC17+BE17+BG17+BI17+BK17+BM17+BO17+BQ17+BS17+BU17+BW17+BY17+CA17+CC17+CE17+CG17+CI17+CK17+CM17+CO17+CQ17+CS17+CU17+CW17+CY17+DA17+DC17+DE17+DG17+DI17+DK17 -> 24 | E17: =D17*F17 -> 0 | G17: ='[1]школа 1'!E15 -> 0 | H17: =G17*F17 -> 0 | I17: ='[1]школа 2'!E15 -> 0 | J17: =I17*F17 -> 0 | K17: =[1]Герас!E15 -> 0 | L17: =K17*F17 -> 0 | M17: ='[1]школа 4'!E15 -> 2 | N17: =M17*F17 -> 0 | O17: ='[1]школа 5'!E15 -> 0 | P17: =O17*F17 -> 0 | Q17: ='[1]школа 6'!E15 -> 0 | R17: =Q17*F17 -> 0 | S17: ='[1]школа 7'!E15 -> 0 | T17: =S17*F17 -> 0 | U17: ='[1]школа 8'!E15 -> 0 | V17: =U17*F17 -> 0 | W17: ='[1]школа 9'!E15 -> 0 | X17: =W17*F17 -> 0 | Y17: ='[1]школа 10'!E15 -> 0 | Z17: =Y17*F17 -> 0 | AA17: ='[1]школа 11'!E15 -> 0 | AB17: =AA17*F17 -> 0 | AC17: =[1]Скелев!E15 -> 0 | AD17: =AC17*F17 -> 0 | AE17: ='[1]школа 13'!E15 -> 0 | AF17: =AE17*F17 -> 0 | AG17: ='[1]школа 14'!E15 -> 0 | AH17: =AG17*F17 -> 0 | AI17: ='[1]школа 15'!E15 -> 0 | AJ17: =AI17*F17 -> 0 | AK17: ='[1]школа 16'!E15 -> 0 | AL17: =AK17*F17 -> 0 | AM17: ='[1]школа 17'!E15 -> 0 | AN17: =AM17*F17 -> 0 | AO17: ='[1]школа 18'!E15 -> 0 | AP17: =AO17*F17 -> 0 | AQ17: ='[1]школа 19'!E15 -> 0 | AR17: =AQ17*F17 -> 0 | AS17: ='[1]В-ЛОГ'!E15 -> 0 | AT17: =AS17*F17 -> 0 | AU17: ='[1]школа 21'!E15 -> 0 | AV17: =AU17*F17 -> 0 | AW17: ='[1]школа 22)'!E15 -> 0 | AX17: =AW17*F17 -> 0 | AY17: =[1]БСуход!E15 -> 0 | AZ17: =AY17*F17 -> 0 | BA17: ='[1]школа 24'!E15 -> 0 | BB17: =BA17*F17 -> 0 | BC17: =[1]Шевыр!E15 -> 0 | BD17: =BC17*F17 -> 0 | BE17: =[1]дн!E15 -> 0 | BF17: =BE17*F17 -> 0 | BG17: =[1]Новоанн!E15 -> 0 | BH17: =BG17*F17 -> 0 | BI17: ='[1]Н-А'!E15 -> 0 | BJ17: =BI17*F17 -> 0 | BK17: =[1]Ордж!E15 -> 0 | BL17: =BK17*F17 -> 0 | BM17: =[1]Пархом!E15 -> 0 | BN17: =BM17*F17 -> 0 | BO17: =[1]Семейк!E15 -> 0 | BP17: =BO17*F17 -> 0 | BQ17: =[1]Пореч!E15 -> 0 | BR17: =BQ17*F17 -> 0 | BS17: =[1]Самсон!E15 -> 0 | BT17: =BS17*F17 -> 0 | BU17: =[1]Тал!E15 -> 0 | BV17: =BU17*F17 -> 0 | BW17: =[1]Хрящев!E15 -> 3 | BX17: =BW17*F17 -> 0 | BY17: =[1]Красн!E15 -> 0 | BZ17: =BY17*F17 -> 0 | CA17: =[1]КГГ!E15 -> 0 | CB17: =CA17*F17 -> 0 | CC17: =[1]НСвет!E15 -> 0 | CD17: =CC17*F17 -> 0 | CE17: =[1]радуга!E15 -> 0 | CF17: =CE17*F17 -> 0 | CG17: =[1]ЦБ!E15 -> 0 | CH17: =CG17*F17 -> 0 | CI17: ='[1]10115'!E15 -> 0 | CJ17: =CI17*F17 -> 0 | CK17: ='[1]ЦДТ №1'!E15 -> 0 | CL17: =CK17*F17 -> 0 | CM17: ='[1]ЦДТ № 4'!E15 -> 0 | CN17: =CM17*F17 -> 0 | CO17: =[1]Калинка!E15 -> 10 | CP17: =CO17*F17 -> 0 | CQ17: =[1]Ягодка!E15 -> 0 | CR17: =CQ17*F17 -> 0 | CS17: =[1]Березка!E15 -> 0 | CT17: =CS17*F17 -> 0 | CU17: =[1]Петушок!E15 -> 3 | CV17: =CU17*F17 -> 0 | CW17: =[1]Аленка!E15 -> 0 | CX17: =CW17*F17 -> 0 | CY17: =[1]Барвинок!E15 -> 0 | CZ17: =CY17*F17 -> 0 | DA17: ='[1]Солнышко 10'!E15 -> 3 | DB17: =DA17*F17 -> 0 | DC17: =[1]Золушка!E15 -> 0 | DD17: =DC17*F17 -> 0 | DE17: =[1]Ивушка!E15 -> 3 | DF17: =DE17*F17 -> 0 | DG17: =[1]Сказка!E15 -> 0 | DH17: =DG17*F17 -> 0 | DI17: =[1]Веснушки!E15 -> 0 | DJ17: =DI17*F17 -> 0 | DK17: =[1]кмц!E15 -> 0 | DL17: =DK17*F17 -> 0
A18: 13 | B18: Ведро пластмассовое 11л. | C18: шт | D18: =G18+++I18+K18+M18+O18+Q18+S18+U18+W18+Y18+AA18+AC18+AE18+AG18+AI18+AK18+AM18+AO18+AQ18+AS18+AU18+AW18+AY18+BA18+BC18+BE18+BG18+BI18+BK18+BM18+BO18+BQ18+BS18+BU18+BW18+BY18+CA18+CC18+CE18+CG18+CI18+CK18+CM18+CO18+CQ18+CS18+CU18+CW18+CY18+DA18+DC18+DE18+DG18+DI18+DK18 -> 160 | E18: =D18*F18 -> 0 | G18: ='[1]школа 1'!E16 -> 20 | H18: =G18*F18 -> 0 | I18: ='[1]школа 2'!E16 -> 0 | J18: =I18*F18 -> 0 | K18: =[1]Герас!E16 -> 0 | L18: =K18*F18 -> 0 | M18: ='[1]школа 4'!E16 -> 5 | N18: =M18*F18 -> 0 | O18: ='[1]школа 5'!E16 -> 0 | P18: =O18*F18 -> 0 | Q18: ='[1]школа 6'!E16 -> 5 | R18: =Q18*F18 -> 0 | S18: ='[1]школа 7'!E16 -> 10 | T18: =S18*F18 -> 0 | U18: ='[1]школа 8'!E16 -> 0 | V18: =U18*F18 -> 0 | W18: ='[1]школа 9'!E16 -> 0 | X18: =W18*F18 -> 0 | Y18: ='[1]школа 10'!E16 -> 0 | Z18: =Y18*F18 -> 0 | AA18: ='[1]школа 11'!E16 -> 5 | AB18: =AA18*F18 -> 0 | AC18: =[1]Скелев!E16 -> 0 | AD18: =AC18*F18 -> 0 | AE18: ='[1]школа 13'!E16 -> 0 | AF18: =AE18*F18 -> 0 | AG18: ='[1]школа 14'!E16 -> 0 | AH18: =AG18*F18 -> 0 | AI18: ='[1]школа 15'!E16 -> 0 | AJ18: =AI18*F18 -> 0 | AK18: ='[1]школа 16'!E16 -> 0 | AL18: =AK18*F18 -> 0 | AM18: ='[1]школа 17'!E16 -> 0 | AN18: =AM18*F18 -> 0 | AO18: ='[1]школа 18'!E16 -> 0 | AP18: =AO18*F18 -> 0 | AQ18: ='[1]школа 19'!E16 -> 10 | AR18: =AQ18*F18 -> 0 | AS18: ='[1]В-ЛОГ'!E16 -> 0 | AT18: =AS18*F18 -> 0 | AU18: ='[1]школа 21'!E16 -> 0 | AV18: =AU18*F18 -> 0 | AW18: ='[1]школа 22)'!E16 -> 0 | AX18: =AW18*F18 -> 0 | AY18: =[1]БСуход!E16 -> 0 | AZ18: =AY18*F18 -> 0 | BA18: ='[1]школа 24'!E16 -> 0 | BB18: =BA18*F18 -> 0 | BC18: =[1]Шевыр!E16 -> 0 | BD18: =BC18*F18 -> 0 | BE18: =[1]дн!E16 -> 0 | BF18: =BE18*F18 -> 0 | BG18: =[1]Новоанн!E16 -> 15 | BH18: =BG18*F18 -> 0 | BI18: ='[1]Н-А'!E16 -> 0 | BJ18: =BI18*F18 -> 0 | BK18: =[1]Ордж!E16 -> 0 | BL18: =BK18*F18 -> 0 | BM18: =[1]Пархом!E16 -> 10 | BN18: =BM18*F18 -> 0 | BO18: =[1]Семейк!E16 -> 10 | BP18: =BO18*F18 -> 0 | BQ18: =[1]Пореч!E16 -> 20 | BR18: =BQ18*F18 -> 0 | BS18: =[1]Самсон!E16 -> 0 | BT18: =BS18*F18 -> 0 | BU18: =[1]Тал!E16 -> 0 | BV18: =BU18*F18 -> 0 | BW18: =[1]Хрящев!E16 -> 3 | BX18: =BW18*F18 -> 0 | BY18: =[1]Красн!E16 -> 0 | BZ18: =BY18*F18 -> 0 | CA18: =[1]КГГ!E16 -> 0 | CB18: =CA18*F18 -> 0 | CC18: =[1]НСвет!E16 -> 0 | CD18: =CC18*F18 -> 0 | CE18: =[1]радуга!E16 -> 5 | CF18: =CE18*F18 -> 0 | CG18: =[1]ЦБ!E16 -> 0 | CH18: =CG18*F18 -> 0 | CI18: ='[1]10115'!E16 -> 0 | CJ18: =CI18*F18 -> 0 | CK18: ='[1]ЦДТ №1'!E16 -> 0 | CL18: =CK18*F18 -> 0 | CM18: ='[1]ЦДТ № 4'!E16 -> 0 | CN18: =CM18*F18 -> 0 | CO18: =[1]Калинка!E16 -> 10 | CP18: =CO18*F18 -> 0 | CQ18: =[1]Ягодка!E16 -> 0 | CR18: =CQ18*F18 -> 0 | CS18: =[1]Березка!E16 -> 0 | CT18: =CS18*F18 -> 0 | CU18: =[1]Петушок!E16 -> 5 | CV18: =CU18*F18 -> 0 | CW18: =[1]Аленка!E16 -> 10 | CX18: =CW18*F18 -> 0 | CY18: =[1]Барвинок!E16 -> 0 | CZ18: =CY18*F18 -> 0 | DA18: ='[1]Солнышко 10'!E16 -> 0 | DB18: =DA18*F18 -> 0 | DC18: =[1]Золушка!E16 -> 0 | DD18: =DC18*F18 -> 0 | DE18: =[1]Ивушка!E16 -> 15 | DF18: =DE18*F18 -> 0 | DG18: =[1]Сказка!E16 -> 0 | DH18: =DG18*F18 -> 0 | DI18: =[1]Веснушки!E16 -> 0 | DJ18: =DI18*F18 -> 0 | DK18: =[1]кмц!E16 -> 2 | DL18: =DK18*F18 -> 0
A19: 14 | B19: Мыло жидкое 1л | C19: шт | D19: =G19+++I19+K19+M19+O19+Q19+S19+U19+W19+Y19+AA19+AC19+AE19+AG19+AI19+AK19+AM19+AO19+AQ19+AS19+AU19+AW19+AY19+BA19+BC19+BE19+BG19+BI19+BK19+BM19+BO19+BQ19+BS19+BU19+BW19+BY19+CA19+CC19+CE19+CG19+CI19+CK19+CM19+CO19+CQ19+CS19+CU19+CW19+CY19+DA19+DC19+DE19+DG19+DI19+DK19 -> 241 | E19: =D19*F19 -> 0 | G19: ='[1]школа 1'!E17 -> 10 | H19: =G19*F19 -> 0 | I19: ='[1]школа 2'!E17 -> 0 | J19: =I19*F19 -> 0 | K19: =[1]Герас!E17 -> 5 | L19: =K19*F19 -> 0 | M19: ='[1]школа 4'!E17 -> 10 | N19: =M19*F19 -> 0 | O19: ='[1]школа 5'!E17 -> 10 | P19: =O19*F19 -> 0 | Q19: ='[1]школа 6'!E17 -> 5 | R19: =Q19*F19 -> 0 | S19: ='[1]школа 7'!E17 -> 10 | T19: =S19*F19 -> 0 | U19: ='[1]школа 8'!E17 -> 0 | V19: =U19*F19 -> 0 | W19: ='[1]школа 9'!E17 -> 5 | X19: =W19*F19 -> 0 | Y19: ='[1]школа 10'!E17 -> 10 | Z19: =Y19*F19 -> 0 | AA19: ='[1]школа 11'!E17 -> 5 | AB19: =AA19*F19 -> 0 | AC19: =[1]Скелев!E17 -> 3 | AD19: =AC19*F19 -> 0 | AE19: ='[1]школа 13'!E17 -> 5 | AF19: =AE19*F19 -> 0 | AG19: ='[1]школа 14'!E17 -> 5 | AH19: =AG19*F19 -> 0 | AI19: ='[1]школа 15'!E17 -> 1 | AJ19: =AI19*F19 -> 0 | AK19: ='[1]школа 16'!E17 -> 0 | AL19: =AK19*F19 -> 0 | AM19: ='[1]школа 17'!E17 -> 0 | AN19: =AM19*F19 -> 0 | AO19: ='[1]школа 18'!E17 -> 0 | AP19: =AO19*F19 -> 0 | AQ19: ='[1]школа 19'!E17 -> 5 | AR19: =AQ19*F19 -> 0 | AS19: ='[1]В-ЛОГ'!E17 -> 0 | AT19: =AS19*F19 -> 0 | AU19: ='[1]школа 21'!E17 -> 5 | AV19: =AU19*F19 -> 0 | AW19: ='[1]школа 22)'!E17 -> 0 | AX19: =AW19*F19 -> 0 | AY19: =[1]БСуход!E17 -> 5 | AZ19: =AY19*F19 -> 0 | BA19: ='[1]школа 24'!E17 -> 5 | BB19: =BA19*F19 -> 0 | BC19: =[1]Шевыр!E17 -> 0 | BD19: =BC19*F19 -> 0 | BE19: =[1]дн!E17 -> 10 | BF19: =BE19*F19 -> 0 | BG19: =[1]Новоанн!E17 -> 10 | BH19: =BG19*F19 -> 0 | BI19: ='[1]Н-А'!E17 -> 5 | BJ19: =BI19*F19 -> 0 | BK19: =[1]Ордж!E17 -> 0 | BL19: =BK19*F19 -> 0 | BM19: =[1]Пархом!E17 -> 20 | BN19: =BM19*F19 -> 0 | BO19: =[1]Семейк!E17 -> 10 | BP19: =BO19*F19 -> 0 | BQ19: =[1]Пореч!E17 -> 5 | BR19: =BQ19*F19 -> 0 | BS19: =[1]Самсон!E17 -> 0 | BT19: =BS19*F19 -> 0 | BU19: =[1]Тал!E17 -> 0 | BV19: =BU19*F19 -> 0 | BW19: =[1]Хрящев!E17 -> 3 | BX19: =BW19*F19 -> 0 | BY19: =[1]Красн!E17 -> 0 | BZ19: =BY19*F19 -> 0 | CA19: =[1]КГГ!E17 -> 0 | CB19: =CA19*F19 -> 0 | CC19: =[1]НСвет!E17 -> 10 | CD19: =CC19*F19 -> 0 | CE19: =[1]радуга!E17 -> 10 | CF19: =CE19*F19 -> 0 | CG19: =[1]ЦБ!E17 -> 0 | CH19: =CG19*F19 -> 0 | CI19: ='[1]10115'!E17 -> 0 | CJ19: =CI19*F19 -> 0 | CK19: ='[1]ЦДТ №1'!E17 -> 0 | CL19: =CK19*F19 -> 0 | CM19: ='[1]ЦДТ № 4'!E17 -> 0 | CN19: =CM19*F19 -> 0 | CO19: =[1]Калинка!E17 -> 5 | CP19: =CO19*F19 -> 0 | CQ19: =[1]Ягодка!E17 -> 2 | CR19: =CQ19*F19 -> 0 | CS19: =[1]Березка!E17 -> 0 | CT19: =CS19*F19 -> 0 | CU19: =[1]Петушок!E17 -> 1 | CV19: =CU19*F19 -> 0 | CW19: =[1]Аленка!E17 -> 5 | CX19: =CW19*F19 -> 0 | CY19: =[1]Барвинок!E17 -> 2 | CZ19: =CY19*F19 -> 0 | DA19: ='[1]Солнышко 10'!E17 -> 2 | DB19: =DA19*F19 -> 0 | DC19: =[1]Золушка!E17 -> 0 | DD19: =DC19*F19 -> 0 | DE19: =[1]Ивушка!E17 -> 10 | DF19: =DE19*F19 -> 0 | DG19: =[1]Сказка!E17 -> 2 | DH19: =DG19*F19 -> 0 | DI19: =[1]Веснушки!E17 -> 10 | DJ19: =DI19*F19 -> 0 | DK19: =[1]кмц!E17 -> 15 | DL19: =DK19*F19 -> 0
A20: 15 | B20: Саннитарный гель 1л , (сантри) | C20: шт | D20: =G20+++I20+K20+M20+O20+Q20+S20+U20+W20+Y20+AA20+AC20+AE20+AG20+AI20+AK20+AM20+AO20+AQ20+AS20+AU20+AW20+AY20+BA20+BC20+BE20+BG20+BI20+BK20+BM20+BO20+BQ20+BS20+BU20+BW20+BY20+CA20+CC20+CE20+CG20+CI20+CK20+CM20+CO20+CQ20+CS20+CU20+CW20+CY20+DA20+DC20+DE20+DG20+DI20+DK20 -> 904 | E20: =D20*F20 -> 0 | G20: ='[1]школа 1'!E18 -> 45 | H20: =G20*F20 -> 0 | I20: ='[1]школа 2'!E18 -> 30 | J20: =I20*F20 -> 0 | K20: =[1]Герас!E18 -> 20 | L20: =K20*F20 -> 0 | M20: ='[1]школа 4'!E18 -> 30 | N20: =M20*F20 -> 0 | O20: ='[1]школа 5'!E18 -> 20 | P20: =O20*F20 -> 0 | Q20: ='[1]школа 6'!E18 -> 20 | R20: =Q20*F20 -> 0 | S20: ='[1]школа 7'!E18 -> 30 | T20: =S20*F20 -> 0 | U20: ='[1]школа 8'!E18 -> 0 | V20: =U20*F20 -> 0 | W20: ='[1]школа 9'!E18 -> 30 | X20: =W20*F20 -> 0 | Y20: ='[1]школа 10'!E18 -> 20 | Z20: =Y20*F20 -> 0 | AA20: ='[1]школа 11'!E18 -> 10 | AB20: =AA20*F20 -> 0 | AC20: =[1]Скелев!E18 -> 15 | AD20: =AC20*F20 -> 0 | AE20: ='[1]школа 13'!E18 -> 20 | AF20: =AE20*F20 -> 0 | AG20: ='[1]школа 14'!E18 -> 20 | AH20: =AG20*F20 -> 0 | AI20: ='[1]школа 15'!E18 -> 0 | AJ20: =AI20*F20 -> 0 | AK20: ='[1]школа 16'!E18 -> 0 | AL20: =AK20*F20 -> 0 | AM20: ='[1]школа 17'!E18 -> 0 | AN20: =AM20*F20 -> 0 | AO20: ='[1]школа 18'!E18 -> 0 | AP20: =AO20*F20 -> 0 | AQ20: ='[1]школа 19'!E18 -> 20 | AR20: =AQ20*F20 -> 0 | AS20: ='[1]В-ЛОГ'!E18 -> 10 | AT20: =AS20*F20 -> 0 | AU20: ='[1]школа 21'!E18 -> 50 | AV20: =AU20*F20 -> 0 | AW20: ='[1]школа 22)'!E18 -> 0 | AX20: =AW20*F20 -> 0 | AY20: =[1]БСуход!E18 -> 10 | AZ20: =AY20*F20 -> 0 | BA20: ='[1]школа 24'!E18 -> 30 | BB20: =BA20*F20 -> 0 | BC20: =[1]Шевыр!E18 -> 0 | BD20: =BC20*F20 -> 0 | BE20: =[1]дн!E18 -> 0 | BF20: =BE20*F20 -> 0 | BG20: =[1]Новоанн!E18 -> 50 | BH20: =BG20*F20 -> 0 | BI20: ='[1]Н-А'!E18 -> 10 | BJ20: =BI20*F20 -> 0 | BK20: =[1]Ордж!E18 -> 30 | BL20: =BK20*F20 -> 0 | BM20: =[1]Пархом!E18 -> 0 | BN20: =BM20*F20 -> 0 | BO20: =[1]Семейк!E18 -> 20 | BP20: =BO20*F20 -> 0 | BQ20: =[1]Пореч!E18 -> 30 | BR20: =BQ20*F20 -> 0 | BS20: =[1]Самсон!E18 -> 0 | BT20: =BS20*F20 -> 0 | BU20: =[1]Тал!E18 -> 0 | BV20: =BU20*F20 -> 0 | BW20: =[1]Хрящев!E18 -> 10 | BX20: =BW20*F20 -> 0 | BY20: =[1]Красн!E18 -> 0 | BZ20: =BY20*F20 -> 0 | CA20: =[1]КГГ!E18 -> 36 | CB20: =CA20*F20 -> 0 | CC20: =[1]НСвет!E18 -> 30 | CD20: =CC20*F20 -> 0 | CE20: =[1]радуга!E18 -> 0 | CF20: =CE20*F20 -> 0 | CG20: =[1]ЦБ!E18 -> 0 | CH20: =CG20*F20 -> 0 | CI20: ='[1]10115'!E18 -> 0 | CJ20: =CI20*F20 -> 0 | CK20: ='[1]ЦДТ №1'!E18 -> 0 | CL20: =CK20*F20 -> 0 | CM20: ='[1]ЦДТ № 4'!E18 -> 0 | CN20: =CM20*F20 -> 0 | CO20: =[1]Калинка!E18 -> 50 | CP20: =CO20*F20 -> 0 | CQ20: =[1]Ягодка!E18 -> 50 | CR20: =CQ20*F20 -> 0 | CS20: =[1]Березка!E18 -> 10 | CT20: =CS20*F20 -> 0 | CU20: =[1]Петушок!E18 -> 9 | CV20: =CU20*F20 -> 0 | CW20: =[1]Аленка!E18 -> 15 | CX20: =CW20*F20 -> 0 | CY20: =[1]Барвинок!E18 -> 5 | CZ20: =CY20*F20 -> 0 | DA20: ='[1]Солнышко 10'!E18 -> 6 | DB20: =DA20*F20 -> 0 | DC20: =[1]Золушка!E18 -> 0 | DD20: =DC20*F20 -> 0 | DE20: =[1]Ивушка!E18 -> 50 | DF20: =DE20*F20 -> 0 | DG20: =[1]Сказка!E18 -> 6 | DH20: =DG20*F20 -> 0 | DI20: =[1]Веснушки!E18 -> 42 | DJ20: =DI20*F20 -> 0 | DK20: =[1]кмц!E18 -> 15 | DL20: =DK20*F20 -> 0
A21: 16 | B21: Бумага туалетная однослойная в рулоне | C21: шт | D21: =G21+++I21+K21+M21+O21+Q21+S21+U21+W21+Y21+AA21+AC21+AE21+AG21+AI21+AK21+AM21+AO21+AQ21+AS21+AU21+AW21+AY21+BA21+BC21+BE21+BG21+BI21+BK21+BM21+BO21+BQ21+BS21+BU21+BW21+BY21+CA21+CC21+CE21+CG21+CI21+CK21+CM21+CO21+CQ21+CS21+CU21+CW21+CY21+DA21+DC21+DE21+DG21+DI21+DK21 -> 726 | E21: =D21*F21 -> 0 | G21: ='[1]школа 1'!E19 -> 0 | H21: =G21*F21 -> 0 | I21: ='[1]школа 2'!E19 -> 0 | J21: =I21*F21 -> 0 | K21: =[1]Герас!E19 -> 36 | L21: =K21*F21 -> 0 | M21: ='[1]школа 4'!E19 -> 0 | N21: =M21*F21 -> 0 | O21: ='[1]школа 5'!E19 -> 0 | P21: =O21*F21 -> 0 | Q21: ='[1]школа 6'!E19 -> 0 | R21: =Q21*F21 -> 0 | S21: ='[1]школа 7'!E19 -> 0 | T21: =S21*F21 -> 0 | U21: ='[1]школа 8'!E19 -> 0 | V21: =U21*F21 -> 0 | W21: ='[1]школа 9'!E19 -> 0 | X21: =W21*F21 -> 0 | Y21: ='[1]школа 10'!E19 -> 0 | Z21: =Y21*F21 -> 0 | AA21: ='[1]школа 11'!E19 -> 0 | AB21: =AA21*F21 -> 0 | AC21: =[1]Скелев!E19 -> 0 | AD21: =AC21*F21 -> 0 | AE21: ='[1]школа 13'!E19 -> 60 | AF21: =AE21*F21 -> 0 | AG21: ='[1]школа 14'!E19 -> 0 | AH21: =AG21*F21 -> 0 | AI21: ='[1]школа 15'!E19 -> 0 | AJ21: =AI21*F21 -> 0 | AK21: ='[1]школа 16'!E19 -> 0 | AL21: =AK21*F21 -> 0 | AM21: ='[1]школа 17'!E19 -> 0 | AN21: =AM21*F21 -> 0 | AO21: ='[1]школа 18'!E19 -> 0 | AP21: =AO21*F21 -> 0 | AQ21: ='[1]школа 19'!E19 -> 20 | AR21: =AQ21*F21 -> 0 | AS21: ='[1]В-ЛОГ'!E19 -> 0 | AT21: =AS21*F21 -> 0 | AU21: ='[1]школа 21'!E19 -> 0 | AV21: =AU21*F21 -> 0 | AW21: ='[1]школа 22)'!E19 -> 0 | AX21: =AW21*F21 -> 0 | AY21: =[1]БСуход!E19 -> 40 | AZ21: =AY21*F21 -> 0 | BA21: ='[1]школа 24'!E19 -> 0 | BB21: =BA21*F21 -> 0 | BC21: =[1]Шевыр!E19 -> 0 | BD21: =BC21*F21 -> 0 | BE21: =[1]дн!E19 -> 30 | BF21: =BE21*F21 -> 0 | BG21: =[1]Новоанн!E19 -> 100 | BH21: =BG21*F21 -> 0 | BI21: ='[1]Н-А'!E19 -> 0 | BJ21: =BI21*F21 -> 0 | BK21: =[1]Ордж!E19 -> 0 | BL21: =BK21*F21 -> 0 | BM21: =[1]Пархом!E19 -> 0 | BN21: =BM21*F21 -> 0 | BO21: =[1]Семейк!E19 -> 20 | BP21: =BO21*F21 -> 0 | BQ21: =[1]Пореч!E19 -> 50 | BR21: =BQ21*F21 -> 0 | BS21: =[1]Самсон!E19 -> 0 | BT21: =BS21*F21 -> 0 | BU21: =[1]Тал!E19 -> 0 | BV21: =BU21*F21 -> 0 | BW21: =[1]Хрящев!E19 -> 0 | BX21: =BW21*F21 -> 0 | BY21: =[1]Красн!E19 -> 0 | BZ21: =BY21*F21 -> 0 | CA21: =[1]КГГ!E19 -> 0 | CB21: =CA21*F21 -> 0 | CC21: =[1]НСвет!E19 -> 0 | CD21: =CC21*F21 -> 0 | CE21: =[1]радуга!E19 -> 50 | CF21: =CE21*F21 -> 0 | CG21: =[1]ЦБ!E19 -> 0 | CH21: =CG21*F21 -> 0 | CI21: ='[1]10115'!E19 -> 0 | CJ21: =CI21*F21 -> 0 | CK21: ='[1]ЦДТ №1'!E19 -> 0 | CL21: =CK21*F21 -> 0 | CM21: ='[1]ЦДТ № 4'!E19 -> 0 | CN21: =CM21*F21 -> 0 | CO21: =[1]Калинка!E19 -> 100 | CP21: =CO21*F21 -> 0 | CQ21: =[1]Ягодка!E19 -> 20 | CR21: =CQ21*F21 -> 0 | CS21: =[1]Березка!E19 -> 12 | CT21: =CS21*F21 -> 0 | CU21: =[1]Петушок!E19 -> 12 | CV21: =CU21*F21 -> 0 | CW21: =[1]Аленка!E19 -> 24 | CX21: =CW21*F21 -> 0 | CY21: =[1]Барвинок!E19 -> 11 | CZ21: =CY21*F21 -> 0 | DA21: ='[1]Солнышко 10'!E19 -> 10 | DB21: =DA21*F21 -> 0 | DC21: =[1]Золушка!E19 -> 0 | DD21: =DC21*F21 -> 0 | DE21: =[1]Ивушка!E19 -> 35 | DF21: =DE21*F21 -> 0 | DG21: =[1]Сказка!E19 -> 24 | DH21: =DG21*F21 -> 0 | DI21: =[1]Веснушки!E19 -> 72 | DJ21: =DI21*F21 -> 0 | DK21: =[1]кмц!E19 -> 0 | DL21: =DK21*F21 -> 0
A22: 17 | B22: Губка для мытья посуды, поролон с абразивным слоем ( 5шт ) | C22: упаковка | D22: =G22+++I22+K22+M22+O22+Q22+S22+U22+W22+Y22+AA22+AC22+AE22+AG22+AI22+AK22+AM22+AO22+AQ22+AS22+AU22+AW22+AY22+BA22+BC22+BE22+BG22+BI22+BK22+BM22+BO22+BQ22+BS22+BU22+BW22+BY22+CA22+CC22+CE22+CG22+CI22+CK22+CM22+CO22+CQ22+CS22+CU22+CW22+CY22+DA22+DC22+DE22+DG22+DI22+DK22 -> 371 | E22: =D22*F22 -> 0 | G22: ='[1]школа 1'!E20 -> 10 | H22: =G22*F22 -> 0 | I22: ='[1]школа 2'!E20 -> 10 | J22: =I22*F22 -> 0 | K22: =[1]Герас!E20 -> 10 | L22: =K22*F22 -> 0 | M22: ='[1]школа 4'!E20 -> 20 | N22: =M22*F22 -> 0 | O22: ='[1]школа 5'!E20 -> 5 | P22: =O22*F22 -> 0 | Q22: ='[1]школа 6'!E20 -> 5 | R22: =Q22*F22 -> 0 | S22: ='[1]школа 7'!E20 -> 10 | T22: =S22*F22 -> 0 | U22: ='[1]школа 8'!E20 -> 0 | V22: =U22*F22 -> 0 | W22: ='[1]школа 9'!E20 -> 0 | X22: =W22*F22 -> 0 | Y22: ='[1]школа 10'!E20 -> 5 | Z22: =Y22*F22 -> 0 | AA22: ='[1]школа 11'!E20 -> 5 | AB22: =AA22*F22 -> 0 | AC22: =[1]Скелев!E20 -> 10 | AD22: =AC22*F22 -> 0 | AE22: ='[1]школа 13'!E20 -> 5 | AF22: =AE22*F22 -> 0 | AG22: ='[1]школа 14'!E20 -> 5 | AH22: =AG22*F22 -> 0 | AI22: ='[1]школа 15'!E20 -> 0 | AJ22: =AI22*F22 -> 0 | AK22: ='[1]школа 16'!E20 -> 0 | AL22: =AK22*F22 -> 0 | AM22: ='[1]школа 17'!E20 -> 0 | AN22: =AM22*F22 -> 0 | AO22: ='[1]школа 18'!E20 -> 0 | AP22: =AO22*F22 -> 0 | AQ22: ='[1]школа 19'!E20 -> 3 | AR22: =AQ22*F22 -> 0 | AS22: ='[1]В-ЛОГ'!E20 -> 5 | AT22: =AS22*F22 -> 0 | AU22: ='[1]школа 21'!E20 -> 20 | AV22: =AU22*F22 -> 0 | AW22: ='[1]школа 22)'!E20 -> 0 | AX22: =AW22*F22 -> 0 | AY22: =[1]БСуход!E20 -> 10 | AZ22: =AY22*F22 -> 0 | BA22: ='[1]школа 24'!E20 -> 5 | BB22: =BA22*F22 -> 0 | BC22: =[1]Шевыр!E20 -> 5 | BD22: =BC22*F22 -> 0 | BE22: =[1]дн!E20 -> 0 | BF22: =BE22*F22 -> 0 | BG22: =[1]Новоанн!E20 -> 40 | BH22: =BG22*F22 -> 0 | BI22: ='[1]Н-А'!E20 -> 10 | BJ22: =BI22*F22 -> 0 | BK22: =[1]Ордж!E20 -> 10 | BL22: =BK22*F22 -> 0 | BM22: =[1]Пархом!E20 -> 10 | BN22: =BM22*F22 -> 0 | BO22: =[1]Семейк!E20 -> 3 | BP22: =BO22*F22 -> 0 | BQ22: =[1]Пореч!E20 -> 20 | BR22: =BQ22*F22 -> 0 | BS22: =[1]Самсон!E20 -> 0 | BT22: =BS22*F22 -> 0 | BU22: =[1]Тал!E20 -> 0 | BV22: =BU22*F22 -> 0 | BW22: =[1]Хрящев!E20 -> 0 | BX22: =BW22*F22 -> 0 | BY22: =[1]Красн!E20 -> 0 | BZ22: =BY22*F22 -> 0 | CA22: =[1]КГГ!E20 -> 10 | CB22: =CA22*F22 -> 0 | CC22: =[1]НСвет!E20 -> 10 | CD22: =CC22*F22 -> 0 | CE22: =[1]радуга!E20 -> 40 | CF22: =CE22*F22 -> 0 | CG22: =[1]ЦБ!E20 -> 0 | CH22: =CG22*F22 -> 0 | CI22: ='[1]10115'!E20 -> 0 | CJ22: =CI22*F22 -> 0 | CK22: ='[1]ЦДТ №1'!E20 -> 0 | CL22: =CK22*F22 -> 0 | CM22: ='[1]ЦДТ № 4'!E20 -> 0 | CN22: =CM22*F22 -> 0 | CO22: =[1]Калинка!E20 -> 24 | CP22: =CO22*F22 -> 0 | CQ22: =[1]Ягодка!E20 -> 20 | CR22: =CQ22*F22 -> 0 | CS22: =[1]Березка!E20 -> 5 | CT22: =CS22*F22 -> 0 | CU22: =[1]Петушок!E20 -> 3 | CV22: =CU22*F22 -> 0 | CW22: =[1]Аленка!E20 -> 5 | CX22: =CW22*F22 -> 0 | CY22: =[1]Барвинок!E20 -> 0 | CZ22: =CY22*F22 -> 0 | DA22: ='[1]Солнышко 10'!E20 -> 0 | DB22: =DA22*F22 -> 0 | DC22: =[1]Золушка!E20 -> 0 | DD22: =DC22*F22 -> 0 | DE22: =[1]Ивушка!E20 -> 10 | DF22: =DE22*F22 -> 0 | DG22: =[1]Сказка!E20 -> 0 | DH22: =DG22*F22 -> 0 | DI22: =[1]Веснушки!E20 -> 0 | DJ22: =DI22*F22 -> 0 | DK22: =[1]кмц!E20 -> 3 | DL22: =DK22*F22 -> 0
A23: 18 | B23: Скребок вязаный металлический | C23: упаковка | D23: =G23+++I23+K23+M23+O23+Q23+S23+U23+W23+Y23+AA23+AC23+AE23+AG23+AI23+AK23+AM23+AO23+AQ23+AS23+AU23+AW23+AY23+BA23+BC23+BE23+BG23+BI23+BK23+BM23+BO23+BQ23+BS23+BU23+BW23+BY23+CA23+CC23+CE23+CG23+CI23+CK23+CM23+CO23+CQ23+CS23+CU23+CW23+CY23+DA23+DC23+DE23+DG23+DI23+DK23 -> 326 | E23: =D23*F23 -> 0 | G23: ='[1]школа 1'!E21 -> 10 | H23: =G23*F23 -> 0 | I23: ='[1]школа 2'!E21 -> 10 | J23: =I23*F23 -> 0 | K23: =[1]Герас!E21 -> 10 | L23: =K23*F23 -> 0 | M23: ='[1]школа 4'!E21 -> 20 | N23: =M23*F23 -> 0 | O23: ='[1]школа 5'!E21 -> 4 | P23: =O23*F23 -> 0 | Q23: ='[1]школа 6'!E21 -> 5 | R23: =Q23*F23 -> 0 | S23: ='[1]школа 7'!E21 -> 5 | T23: =S23*F23 -> 0 | U23: ='[1]школа 8'!E21 -> 0 | V23: =U23*F23 -> 0 | W23: ='[1]школа 9'!E21 -> 0 | X23: =W23*F23 -> 0 | Y23: ='[1]школа 10'!E21 -> 10 | Z23: =Y23*F23 -> 0 | AA23: ='[1]школа 11'!E21 -> 10 | AB23: =AA23*F23 -> 0 | AC23: =[1]Скелев!E21 -> 0 | AD23: =AC23*F23 -> 0 | AE23: ='[1]школа 13'!E21 -> 3 | AF23: =AE23*F23 -> 0 | AG23: ='[1]школа 14'!E21 -> 5 | AH23: =AG23*F23 -> 0 | AI23: ='[1]школа 15'!E21 -> 0 | AJ23: =AI23*F23 -> 0 | AK23: ='[1]школа 16'!E21 -> 0 | AL23: =AK23*F23 -> 0 | AM23: ='[1]школа 17'!E21 -> 0 | AN23: =AM23*F23 -> 0 | AO23: ='[1]школа 18'!E21 -> 0 | AP23: =AO23*F23 -> 0 | AQ23: ='[1]школа 19'!E21 -> 0 | AR23: =AQ23*F23 -> 0 | AS23: ='[1]В-ЛОГ'!E21 -> 5 | AT23: =AS23*F23 -> 0 | AU23: ='[1]школа 21'!E21 -> 5 | AV23: =AU23*F23 -> 0 | AW23: ='[1]школа 22)'!E21 -> 20 | AX23: =AW23*F23 -> 0 | AY23: =[1]БСуход!E21 -> 15 | AZ23: =AY23*F23 -> 0 | BA23: ='[1]школа 24'!E21 -> 5 | BB23: =BA23*F23 -> 0 | BC23: =[1]Шевыр!E21 -> 5 | BD23: =BC23*F23 -> 0 | BE23: =[1]дн!E21 -> 0 | BF23: =BE23*F23 -> 0 | BG23: =[1]Новоанн!E21 -> 20 | BH23: =BG23*F23 -> 0 | BI23: ='[1]Н-А'!E21 -> 5 | BJ23: =BI23*F23 -> 0 | BK23: =[1]Ордж!E21 -> 10 | BL23: =BK23*F23 -> 0 | BM23: =[1]Пархом!E21 -> 10 | BN23: =BM23*F23 -> 0 | BO23: =[1]Семейк!E21 -> 0 | BP23: =BO23*F23 -> 0 | BQ23: =[1]Пореч!E21 -> 20 | BR23: =BQ23*F23 -> 0 | BS23: =[1]Самсон!E21 -> 0 | BT23: =BS23*F23 -> 0 | BU23: =[1]Тал!E21 -> 0 | BV23: =BU23*F23 -> 0 | BW23: =[1]Хрящев!E21 -> 0 | BX23: =BW23*F23 -> 0 | BY23: =[1]Красн!E21 -> 0 | BZ23: =BY23*F23 -> 0 | CA23: =[1]КГГ!E21 -> 10 | CB23: =CA23*F23 -> 0 | CC23: =[1]НСвет!E21 -> 10 | CD23: =CC23*F23 -> 0 | CE23: =[1]радуга!E21 -> 30 | CF23: =CE23*F23 -> 0 | CG23: =[1]ЦБ!E21 -> 0 | CH23: =CG23*F23 -> 0 | CI23: ='[1]10115'!E21 -> 0 | CJ23: =CI23*F23 -> 0 | CK23: ='[1]ЦДТ №1'!E21 -> 0 | CL23: =CK23*F23 -> 0 | CM23: ='[1]ЦДТ № 4'!E21 -> 0 | CN23: =CM23*F23 -> 0 | CO23: =[1]Калинка!E21 -> 20 | CP23: =CO23*F23 -> 0 | CQ23: =[1]Ягодка!E21 -> 20 | CR23: =CQ23*F23 -> 0 | CS23: =[1]Березка!E21 -> 5 | CT23: =CS23*F23 -> 0 | CU23: =[1]Петушок!E21 -> 2 | CV23: =CU23*F23 -> 0 | CW23: =[1]Аленка!E21 -> 0 | CX23: =CW23*F23 -> 0 | CY23: =[1]Барвинок!E21 -> 0 | CZ23: =CY23*F23 -> 0 | DA23: ='[1]Солнышко 10'!E21 -> 0 | DB23: =DA23*F23 -> 0 | DC23: =[1]Золушка!E21 -> 0 | DD23: =DC23*F23 -> 0 | DE23: =[1]Ивушка!E21 -> 17 | DF23: =DE23*F23 -> 0 | DG23: =[1]Сказка!E21 -> 0 | DH23: =DG23*F23 -> 0 | DI23: =[1]Веснушки!E21 -> 0 | DJ23: =DI23*F23 -> 0 | DK23: =[1]кмц!E21 -> 0 | DL23: =DK23*F23 -> 0
A24: 19 | B24: Средство для мытья стекол с курком 0,5л | C24: шт | D24: =G24+++I24+K24+M24+O24+Q24+S24+U24+W24+Y24+AA24+AC24+AE24+AG24+AI24+AK24+AM24+AO24+AQ24+AS24+AU24+AW24+AY24+BA24+BC24+BE24+BG24+BI24+BK24+BM24+BO24+BQ24+BS24+BU24+BW24+BY24+CA24+CC24+CE24+CG24+CI24+CK24+CM24+CO24+CQ24+CS24+CU24+CW24+CY24+DA24+DC24+DE24+DG24+DI24+DK24 -> 143 | E24: =D24*F24 -> 0 | G24: ='[1]школа 1'!E22 -> 20 | H24: =G24*F24 -> 0 | I24: ='[1]школа 2'!E22 -> 0 | J24: =I24*F24 -> 0 | K24: =[1]Герас!E22 -> 3 | L24: =K24*F24 -> 0 | M24: ='[1]школа 4'!E22 -> 5 | N24: =M24*F24 -> 0 | O24: ='[1]школа 5'!E22 -> 5 | P24: =O24*F24 -> 0 | Q24: ='[1]школа 6'!E22 -> 2 | R24: =Q24*F24 -> 0 | S24: ='[1]школа 7'!E22 -> 3 | T24: =S24*F24 -> 0 | U24: ='[1]школа 8'!E22 -> 0 | V24: =U24*F24 -> 0 | W24: ='[1]школа 9'!E22 -> 0 | X24: =W24*F24 -> 0 | Y24: ='[1]школа 10'!E22 -> 5 | Z24: =Y24*F24 -> 0 | AA24: ='[1]школа 11'!E22 -> 5 | AB24: =AA24*F24 -> 0 | AC24: =[1]Скелев!E22 -> 0 | AD24: =AC24*F24 -> 0 | AE24: ='[1]школа 13'!E22 -> 0 | AF24: =AE24*F24 -> 0 | AG24: ='[1]школа 14'!E22 -> 0 | AH24: =AG24*F24 -> 0 | AI24: ='[1]школа 15'!E22 -> 1 | AJ24: =AI24*F24 -> 0 | AK24: ='[1]школа 16'!E22 -> 0 | AL24: =AK24*F24 -> 0 | AM24: ='[1]школа 17'!E22 -> 0 | AN24: =AM24*F24 -> 0 | AO24: ='[1]школа 18'!E22 -> 0 | AP24: =AO24*F24 -> 0 | AQ24: ='[1]школа 19'!E22 -> 3 | AR24: =AQ24*F24 -> 0 | AS24: ='[1]В-ЛОГ'!E22 -> 0 | AT24: =AS24*F24 -> 0 | AU24: ='[1]школа 21'!E22 -> 10 | AV24: =AU24*F24 -> 0 | AW24: ='[1]школа 22)'!E22 -> 5 | AX24: =AW24*F24 -> 0 | AY24: =[1]БСуход!E22 -> 6 | AZ24: =AY24*F24 -> 0 | BA24: ='[1]школа 24'!E22 -> 5 | BB24: =BA24*F24 -> 0 | BC24: =[1]Шевыр!E22 -> 0 | BD24: =BC24*F24 -> 0 | BE24: =[1]дн!E22 -> 0 | BF24: =BE24*F24 -> 0 | BG24: =[1]Новоанн!E22 -> 7 | BH24: =BG24*F24 -> 0 | BI24: ='[1]Н-А'!E22 -> 0 | BJ24: =BI24*F24 -> 0 | BK24: =[1]Ордж!E22 -> 5 | BL24: =BK24*F24 -> 0 | BM24: =[1]Пархом!E22 -> 0 | BN24: =BM24*F24 -> 0 | BO24: =[1]Семейк!E22 -> 0 | BP24: =BO24*F24 -> 0 | BQ24: =[1]Пореч!E22 -> 4 | BR24: =BQ24*F24 -> 0 | BS24: =[1]Самсон!E22 -> 0 | BT24: =BS24*F24 -> 0 | BU24: =[1]Тал!E22 -> 0 | BV24: =BU24*F24 -> 0 | BW24: =[1]Хрящев!E22 -> 5 | BX24: =BW24*F24 -> 0 | BY24: =[1]Красн!E22 -> 0 | BZ24: =BY24*F24 -> 0 | CA24: =[1]КГГ!E22 -> 5 | CB24: =CA24*F24 -> 0 | CC24: =[1]НСвет!E22 -> 4 | CD24: =CC24*F24 -> 0 | CE24: =[1]радуга!E22 -> 5 | CF24: =CE24*F24 -> 0 | CG24: =[1]ЦБ!E22 -> 0 | CH24: =CG24*F24 -> 0 | CI24: ='[1]10115'!E22 -> 0 | CJ24: =CI24*F24 -> 0 | CK24: ='[1]ЦДТ №1'!E22 -> 0 | CL24: =CK24*F24 -> 0 | CM24: ='[1]ЦДТ № 4'!E22 -> 0 | CN24: =CM24*F24 -> 0 | CO24: =[1]Калинка!E22 -> 10 | CP24: =CO24*F24 -> 0 | CQ24: =[1]Ягодка!E22 -> 3 | CR24: =CQ24*F24 -> 0 | CS24: =[1]Березка!E22 -> 3 | CT24: =CS24*F24 -> 0 | CU24: =[1]Петушок!E22 -> 2 | CV24: =CU24*F24 -> 0 | CW24: =[1]Аленка!E22 -> 0 | CX24: =CW24*F24 -> 0 | CY24: =[1]Барвинок!E22 -> 0 | CZ24: =CY24*F24 -> 0 | DA24: ='[1]Солнышко 10'!E22 -> 3 | DB24: =DA24*F24 -> 0 | DC24: =[1]Золушка!E22 -> 0 | DD24: =DC24*F24 -> 0 | DE24: =[1]Ивушка!E22 -> 3 | DF24: =DE24*F24 -> 0 | DG24: =[1]Сказка!E22 -> 2 | DH24: =DG24*F24 -> 0 | DI24: =[1]Веснушки!E22 -> 0 | DJ24: =DI24*F24 -> 0 | DK24: =[1]кмц!E22 -> 4 | DL24: =DK24*F24 -> 0
A25: 20 | B25: Перчатки резиновые, хозяйственные, желтые, размер L,M | C25: пара | D25: =G25+++I25+K25+M25+O25+Q25+S25+U25+W25+Y25+AA25+AC25+AE25+AG25+AI25+AK25+AM25+AO25+AQ25+AS25+AU25+AW25+AY25+BA25+BC25+BE25+BG25+BI25+BK25+BM25+BO25+BQ25+BS25+BU25+BW25+BY25+CA25+CC25+CE25+CG25+CI25+CK25+CM25+CO25+CQ25+CS25+CU25+CW25+CY25+DA25+DC25+DE25+DG25+DI25+DK25 -> 788 | E25: =D25*F25 -> 0 | G25: ='[1]школа 1'!E23 -> 50 | H25: =G25*F25 -> 0 | I25: ='[1]школа 2'!E23 -> 15 | J25: =I25*F25 -> 0 | K25: =[1]Герас!E23 -> 30 | L25: =K25*F25 -> 0 | M25: ='[1]школа 4'!E23 -> 32 | N25: =M25*F25 -> 0 | O25: ='[1]школа 5'!E23 -> 20 | P25: =O25*F25 -> 0 | Q25: ='[1]школа 6'!E23 -> 12 | R25: =Q25*F25 -> 0 | S25: ='[1]школа 7'!E23 -> 24 | T25: =S25*F25 -> 0 | U25: ='[1]школа 8'!E23 -> 20 | V25: =U25*F25 -> 0 | W25: ='[1]школа 9'!E23 -> 20 | X25: =W25*F25 -> 0 | Y25: ='[1]школа 10'!E23 -> 20 | Z25: =Y25*F25 -> 0 | AA25: ='[1]школа 11'!E23 -> 20 | AB25: =AA25*F25 -> 0 | AC25: =[1]Скелев!E23 -> 10 | AD25: =AC25*F25 -> 0 | AE25: ='[1]школа 13'!E23 -> 10 | AF25: =AE25*F25 -> 0 | AG25: ='[1]школа 14'!E23 -> 10 | AH25: =AG25*F25 -> 0 | AI25: ='[1]школа 15'!E23 -> 0 | AJ25: =AI25*F25 -> 0 | AK25: ='[1]школа 16'!E23 -> 0 | AL25: =AK25*F25 -> 0 | AM25: ='[1]школа 17'!E23 -> 0 | AN25: =AM25*F25 -> 0 | AO25: ='[1]школа 18'!E23 -> 0 | AP25: =AO25*F25 -> 0 | AQ25: ='[1]школа 19'!E23 -> 20 | AR25: =AQ25*F25 -> 0 | AS25: ='[1]В-ЛОГ'!E23 -> 0 | AT25: =AS25*F25 -> 0 | AU25: ='[1]школа 21'!E23 -> 30 | AV25: =AU25*F25 -> 0 | AW25: ='[1]школа 22)'!E23 -> 20 | AX25: =AW25*F25 -> 0 | AY25: =[1]БСуход!E23 -> 30 | AZ25: =AY25*F25 -> 0 | BA25: ='[1]школа 24'!E23 -> 30 | BB25: =BA25*F25 -> 0 | BC25: =[1]Шевыр!E23 -> 5 | BD25: =BC25*F25 -> 0 | BE25: =[1]дн!E23 -> 10 | BF25: =BE25*F25 -> 0 | BG25: =[1]Новоанн!E23 -> 40 | BH25: =BG25*F25 -> 0 | BI25: ='[1]Н-А'!E23 -> 10 | BJ25: =BI25*F25 -> 0 | BK25: =[1]Ордж!E23 -> 10 | BL25: =BK25*F25 -> 0 | BM25: =[1]Пархом!E23 -> 20 | BN25: =BM25*F25 -> 0 | BO25: =[1]Семейк!E23 -> 10 | BP25: =BO25*F25 -> 0 | BQ25: =[1]Пореч!E23 -> 50 | BR25: =BQ25*F25 -> 0 | BS25: =[1]Самсон!E23 -> 0 | BT25: =BS25*F25 -> 0 | BU25: =[1]Тал!E23 -> 0 | BV25: =BU25*F25 -> 0 | BW25: =[1]Хрящев!E23 -> 20 | BX25: =BW25*F25 -> 0 | BY25: =[1]Красн!E23 -> 5 | BZ25: =BY25*F25 -> 0 | CA25: =[1]КГГ!E23 -> 20 | CB25: =CA25*F25 -> 0 | CC25: =[1]НСвет!E23 -> 30 | CD25: =CC25*F25 -> 0 | CE25: =[1]радуга!E23 -> 20 | CF25: =CE25*F25 -> 0 | CG25: =[1]ЦБ!E23 -> 0 | CH25: =CG25*F25 -> 0 | CI25: ='[1]10115'!E23 -> 0 | CJ25: =CI25*F25 -> 0 | CK25: ='[1]ЦДТ №1'!E23 -> 0 | CL25: =CK25*F25 -> 0 | CM25: ='[1]ЦДТ № 4'!E23 -> 0 | CN25: =CM25*F25 -> 0 | CO25: =[1]Калинка!E23 -> 10 | CP25: =CO25*F25 -> 0 | CQ25: =[1]Ягодка!E23 -> 30 | CR25: =CQ25*F25 -> 0 | CS25: =[1]Березка!E23 -> 10 | CT25: =CS25*F25 -> 0 | CU25: =[1]Петушок!E23 -> 5 | CV25: =CU25*F25 -> 0 | CW25: =[1]Аленка!E23 -> 10 | CX25: =CW25*F25 -> 0 | CY25: =[1]Барвинок!E23 -> 10 | CZ25: =CY25*F25 -> 0 | DA25: ='[1]Солнышко 10'!E23 -> 10 | DB25: =DA25*F25 -> 0 | DC25: =[1]Золушка!E23 -> 0 | DD25: =DC25*F25 -> 0 | DE25: =[1]Ивушка!E23 -> 15 | DF25: =DE25*F25 -> 0 | DG25: =[1]Сказка!E23 -> 5 | DH25: =DG25*F25 -> 0 | DI25: =[1]Веснушки!E23 -> 0 | DJ25: =DI25*F25 -> 0 | DK25: =[1]кмц!E23 -> 10 | DL25: =DK25*F25 -> 0
A26: 21 | B26: Пакеты для мусора 30л (30 шт) | C26: упаковка | D26: =G26+++I26+K26+M26+O26+Q26+S26+U26+W26+Y26+AA26+AC26+AE26+AG26+AI26+AK26+AM26+AO26+AQ26+AS26+AU26+AW26+AY26+BA26+BC26+BE26+BG26+BI26+BK26+BM26+BO26+BQ26+BS26+BU26+BW26+BY26+CA26+CC26+CE26+CG26+CI26+CK26+CM26+CO26+CQ26+CS26+CU26+CW26+CY26+DA26+DC26+DE26+DG26+DI26+DK26 -> 257 | E26: =D26*F26 -> 0 | G26: ='[1]школа 1'!E24 -> 10 | H26: =G26*F26 -> 0 | I26: ='[1]школа 2'!E24 -> 0 | J26: =I26*F26 -> 0 | K26: =[1]Герас!E24 -> 18 | L26: =K26*F26 -> 0 | M26: ='[1]школа 4'!E24 -> 10 | N26: =M26*F26 -> 0 | O26: ='[1]школа 5'!E24 -> 5 | P26: =O26*F26 -> 0 | Q26: ='[1]школа 6'!E24 -> 5 | R26: =Q26*F26 -> 0 | S26: ='[1]школа 7'!E24 -> 10 | T26: =S26*F26 -> 0 | U26: ='[1]школа 8'!E24 -> 0 | V26: =U26*F26 -> 0 | W26: ='[1]школа 9'!E24 -> 0 | X26: =W26*F26 -> 0 | Y26: ='[1]школа 10'!E24 -> 5 | Z26: =Y26*F26 -> 0 | AA26: ='[1]школа 11'!E24 -> 10 | AB26: =AA26*F26 -> 0 | AC26: =[1]Скелев!E24 -> 10 | AD26: =AC26*F26 -> 0 | AE26: ='[1]школа 13'!E24 -> 5 | AF26: =AE26*F26 -> 0 | AG26: ='[1]школа 14'!E24 -> 0 | AH26: =AG26*F26 -> 0 | AI26: ='[1]школа 15'!E24 -> 0 | AJ26: =AI26*F26 -> 0 | AK26: ='[1]школа 16'!E24 -> 0 | AL26: =AK26*F26 -> 0 | AM26: ='[1]школа 17'!E24 -> 0 | AN26: =AM26*F26 -> 0 | AO26: ='[1]школа 18'!E24 -> 0 | AP26: =AO26*F26 -> 0 | AQ26: ='[1]школа 19'!E24 -> 5 | AR26: =AQ26*F26 -> 0 | AS26: ='[1]В-ЛОГ'!E24 -> 0 | AT26: =AS26*F26 -> 0 | AU26: ='[1]школа 21'!E24 -> 15 | AV26: =AU26*F26 -> 0 | AW26: ='[1]школа 22)'!E24 -> 10 | AX26: =AW26*F26 -> 0 | AY26: =[1]БСуход!E24 -> 15 | AZ26: =AY26*F26 -> 0 | BA26: ='[1]школа 24'!E24 -> 10 | BB26: =BA26*F26 -> 0 | BC26: =[1]Шевыр!E24 -> 5 | BD26: =BC26*F26 -> 0 | BE26: =[1]дн!E24 -> 10 | BF26: =BE26*F26 -> 0 | BG26: =[1]Новоанн!E24 -> 0 | BH26: =BG26*F26 -> 0 | BI26: ='[1]Н-А'!E24 -> 0 | BJ26: =BI26*F26 -> 0 | BK26: =[1]Ордж!E24 -> 4 | BL26: =BK26*F26 -> 0 | BM26: =[1]Пархом!E24 -> 0 | BN26: =BM26*F26 -> 0 | BO26: =[1]Семейк!E24 -> 10 | BP26: =BO26*F26 -> 0 | BQ26: =[1]Пореч!E24 -> 20 | BR26: =BQ26*F26 -> 0 | BS26: =[1]Самсон!E24 -> 0 | BT26: =BS26*F26 -> 0 | BU26: =[1]Тал!E24 -> 0 | BV26: =BU26*F26 -> 0 | BW26: =[1]Хрящев!E24 -> 10 | BX26: =BW26*F26 -> 0 | BY26: =[1]Красн!E24 -> 0 | BZ26: =BY26*F26 -> 0 | CA26: =[1]КГГ!E24 -> 0 | CB26: =CA26*F26 -> 0 | CC26: =[1]НСвет!E24 -> 0 | CD26: =CC26*F26 -> 0 | CE26: =[1]радуга!E24 -> 10 | CF26: =CE26*F26 -> 0 | CG26: =[1]ЦБ!E24 -> 0 | CH26: =CG26*F26 -> 0 | CI26: ='[1]10115'!E24 -> 0 | CJ26: =CI26*F26 -> 0 | CK26: ='[1]ЦДТ №1'!E24 -> 0 | CL26: =CK26*F26 -> 0 | CM26: ='[1]ЦДТ № 4'!E24 -> 0 | CN26: =CM26*F26 -> 0 | CO26: =[1]Калинка!E24 -> 0 | CP26: =CO26*F26 -> 0 | CQ26: =[1]Ягодка!E24 -> 10 | CR26: =CQ26*F26 -> 0 | CS26: =[1]Березка!E24 -> 10 | CT26: =CS26*F26 -> 0 | CU26: =[1]Петушок!E24 -> 0 | CV26: =CU26*F26 -> 0 | CW26: =[1]Аленка!E24 -> 0 | CX26: =CW26*F26 -> 0 | CY26: =[1]Барвинок!E24 -> 0 | CZ26: =CY26*F26 -> 0 | DA26: ='[1]Солнышко 10'!E24 -> 5 | DB26: =DA26*F26 -> 0 | DC26: =[1]Золушка!E24 -> 0 | DD26: =DC26*F26 -> 0 | DE26: =[1]Ивушка!E24 -> 10 | DF26: =DE26*F26 -> 0 | DG26: =[1]Сказка!E24 -> 0 | DH26: =DG26*F26 -> 0 | DI26: =[1]Веснушки!E24 -> 0 | DJ26: =DI26*F26 -> 0 | DK26: =[1]кмц!E24 -> 10 | DL26: =DK26*F26 -> 0
A27: 22 | B27: Грабли витые металлические без черенка | C27: шт | D27: =G27+++I27+K27+M27+O27+Q27+S27+U27+W27+Y27+AA27+AC27+AE27+AG27+AI27+AK27+AM27+AO27+AQ27+AS27+AU27+AW27+AY27+BA27+BC27+BE27+BG27+BI27+BK27+BM27+BO27+BQ27+BS27+BU27+BW27+BY27+CA27+CC27+CE27+CG27+CI27+CK27+CM27+CO27+CQ27+CS27+CU27+CW27+CY27+DA27+DC27+DE27+DG27+DI27+DK27 -> 11 | E27: =D27*F27 -> 0 | G27: ='[1]школа 1'!E25 -> 0 | H27: =G27*F27 -> 0 | I27: ='[1]школа 2'!E25 -> 0 | J27: =I27*F27 -> 0 | K27: =[1]Герас!E25 -> 0 | L27: =K27*F27 -> 0 | M27: ='[1]школа 4'!E25 -> 0 | N27: =M27*F27 -> 0 | O27: ='[1]школа 5'!E25 -> 0 | P27: =O27*F27 -> 0 | Q27: ='[1]школа 6'!E25 -> 0 | R27: =Q27*F27 -> 0 | S27: ='[1]школа 7'!E25 -> 0 | T27: =S27*F27 -> 0 | U27: ='[1]школа 8'!E25 -> 0 | V27: =U27*F27 -> 0 | W27: ='[1]школа 9'!E25 -> 0 | X27: =W27*F27 -> 0 | Y27: ='[1]школа 10'!E25 -> 0 | Z27: =Y27*F27 -> 0 | AA27: ='[1]школа 11'!E25 -> 0 | AB27: =AA27*F27 -> 0 | AC27: =[1]Скелев!E25 -> 0 | AD27: =AC27*F27 -> 0 | AE27: ='[1]школа 13'!E25 -> 0 | AF27: =AE27*F27 -> 0 | AG27: ='[1]школа 14'!E25 -> 0 | AH27: =AG27*F27 -> 0 | AI27: ='[1]школа 15'!E25 -> 0 | AJ27: =AI27*F27 -> 0 | AK27: ='[1]школа 16'!E25 -> 0 | AL27: =AK27*F27 -> 0 | AM27: ='[1]школа 17'!E25 -> 0 | AN27: =AM27*F27 -> 0 | AO27: ='[1]школа 18'!E25 -> 0 | AP27: =AO27*F27 -> 0 | AQ27: ='[1]школа 19'!E25 -> 0 | AR27: =AQ27*F27 -> 0 | AS27: ='[1]В-ЛОГ'!E25 -> 0 | AT27: =AS27*F27 -> 0 | AU27: ='[1]школа 21'!E25 -> 0 | AV27: =AU27*F27 -> 0 | AW27: ='[1]школа 22)'!E25 -> 0 | AX27: =AW27*F27 -> 0 | AY27: =[1]БСуход!E25 -> 0 | AZ27: =AY27*F27 -> 0 | BA27: ='[1]школа 24'!E25 -> 0 | BB27: =BA27*F27 -> 0 | BC27: =[1]Шевыр!E25 -> 0 | BD27: =BC27*F27 -> 0 | BE27: =[1]дн!E25 -> 0 | BF27: =BE27*F27 -> 0 | BG27: =[1]Новоанн!E25 -> 0 | BH27: =BG27*F27 -> 0 | BI27: ='[1]Н-А'!E25 -> 0 | BJ27: =BI27*F27 -> 0 | BK27: =[1]Ордж!E25 -> 0 | BL27: =BK27*F27 -> 0 | BM27: =[1]Пархом!E25 -> 4 | BN27: =BM27*F27 -> 0 | BO27: =[1]Семейк!E25 -> 0 | BP27: =BO27*F27 -> 0 | BQ27: =[1]Пореч!E25 -> 0 | BR27: =BQ27*F27 -> 0 | BS27: =[1]Самсон!E25 -> 0 | BT27: =BS27*F27 -> 0 | BU27: =[1]Тал!E25 -> 0 | BV27: =BU27*F27 -> 0 | BW27: =[1]Хрящев!E25 -> 0 | BX27: =BW27*F27 -> 0 | BY27: =[1]Красн!E25 -> 0 | BZ27: =BY27*F27 -> 0 | CA27: =[1]КГГ!E25 -> 0 | CB27: =CA27*F27 -> 0 | CC27: =[1]НСвет!E25 -> 0 | CD27: =CC27*F27 -> 0 | CE27: =[1]радуга!E25 -> 0 | CF27: =CE27*F27 -> 0 | CG27: =[1]ЦБ!E25 -> 0 | CH27: =CG27*F27 -> 0 | CI27: ='[1]10115'!E25 -> 0 | CJ27: =CI27*F27 -> 0 | CK27: ='[1]ЦДТ №1'!E25 -> 0 | CL27: =CK27*F27 -> 0 | CM27: ='[1]ЦДТ № 4'!E25 -> 0 | CN27: =CM27*F27 -> 0 | CO27: =[1]Калинка!E25 -> 0 | CP27: =CO27*F27 -> 0 | CQ27: =[1]Ягодка!E25 -> 0 | CR27: =CQ27*F27 -> 0 | CS27: =[1]Березка!E25 -> 0 | CT27: =CS27*F27 -> 0 | CU27: =[1]Петушок!E25 -> 0 | CV27: =CU27*F27 -> 0 | CW27: =[1]Аленка!E25 -> 2 | CX27: =CW27*F27 -> 0 | CY27: =[1]Барвинок!E25 -> 0 | CZ27: =CY27*F27 -> 0 | DA27: ='[1]Солнышко 10'!E25 -> 0 | DB27: =DA27*F27 -> 0 | DC27: =[1]Золушка!E25 -> 0 | DD27: =DC27*F27 -> 0 | DE27: =[1]Ивушка!E25 -> 0 | DF27: =DE27*F27 -> 0 | DG27: =[1]Сказка!E25 -> 0 | DH27: =DG27*F27 -> 0 | DI27: =[1]Веснушки!E25 -> 0 | DJ27: =DI27*F27 -> 0 | DK27: =[1]кмц!E25 -> 5 | DL27: =DK27*F27 -> 0
A28: 23 | B28: Лопата штыковая, сталь, с ребрами жесткости, 21*30см, с деревянным черенком 120см | C28: шт | D28: =G28+++I28+K28+M28+O28+Q28+S28+U28+W28+Y28+AA28+AC28+AE28+AG28+AI28+AK28+AM28+AO28+AQ28+AS28+AU28+AW28+AY28+BA28+BC28+BE28+BG28+BI28+BK28+BM28+BO28+BQ28+BS28+BU28+BW28+BY28+CA28+CC28+CE28+CG28+CI28+CK28+CM28+CO28+CQ28+CS28+CU28+CW28+CY28+DA28+DC28+DE28+DG28+DI28+DK28 -> 4 | E28: =D28*F28 -> 0 | G28: ='[1]школа 1'!E26 -> 0 | H28: =G28*F28 -> 0 | I28: ='[1]школа 2'!E26 -> 0 | J28: =I28*F28 -> 0 | K28: =[1]Герас!E26 -> 0 | L28: =K28*F28 -> 0 | M28: ='[1]школа 4'!E26 -> 0 | N28: =M28*F28 -> 0 | O28: ='[1]школа 5'!E26 -> 0 | P28: =O28*F28 -> 0 | Q28: ='[1]школа 6'!E26 -> 0 | R28: =Q28*F28 -> 0 | S28: ='[1]школа 7'!E26 -> 0 | T28: =S28*F28 -> 0 | U28: ='[1]школа 8'!E26 -> 0 | V28: =U28*F28 -> 0 | W28: ='[1]школа 9'!E26 -> 0 | X28: =W28*F28 -> 0 | Y28: ='[1]школа 10'!E26 -> 0 | Z28: =Y28*F28 -> 0 | AA28: ='[1]школа 11'!E26 -> 0 | AB28: =AA28*F28 -> 0 | AC28: =[1]Скелев!E26 -> 0 | AD28: =AC28*F28 -> 0 | AE28: ='[1]школа 13'!E26 -> 0 | AF28: =AE28*F28 -> 0 | AG28: ='[1]школа 14'!E26 -> 0 | AH28: =AG28*F28 -> 0 | AI28: ='[1]школа 15'!E26 -> 0 | AJ28: =AI28*F28 -> 0 | AK28: ='[1]школа 16'!E26 -> 0 | AL28: =AK28*F28 -> 0 | AM28: ='[1]школа 17'!E26 -> 0 | AN28: =AM28*F28 -> 0 | AO28: ='[1]школа 18'!E26 -> 0 | AP28: =AO28*F28 -> 0 | AQ28: ='[1]школа 19'!E26 -> 0 | AR28: =AQ28*F28 -> 0 | AS28: ='[1]В-ЛОГ'!E26 -> 0 | AT28: =AS28*F28 -> 0 | AU28: ='[1]школа 21'!E26 -> 0 | AV28: =AU28*F28 -> 0 | AW28: ='[1]школа 22)'!E26 -> 0 | AX28: =AW28*F28 -> 0 | AY28: =[1]БСуход!E26 -> 0 | AZ28: =AY28*F28 -> 0 | BA28: ='[1]школа 24'!E26 -> 0 | BB28: =BA28*F28 -> 0 | BC28: =[1]Шевыр!E26 -> 0 | BD28: =BC28*F28 -> 0 | BE28: =[1]дн!E26 -> 0 | BF28: =BE28*F28 -> 0 | BG28: =[1]Новоанн!E26 -> 0 | BH28: =BG28*F28 -> 0 | BI28: ='[1]Н-А'!E26 -> 0 | BJ28: =BI28*F28 -> 0 | BK28: =[1]Ордж!E26 -> 0 | BL28: =BK28*F28 -> 0 | BM28: =[1]Пархом!E26 -> 0 | BN28: =BM28*F28 -> 0 | BO28: =[1]Семейк!E26 -> 0 | BP28: =BO28*F28 -> 0 | BQ28: =[1]Пореч!E26 -> 0 | BR28: =BQ28*F28 -> 0 | BS28: =[1]Самсон!E26 -> 0 | BT28: =BS28*F28 -> 0 | BU28: =[1]Тал!E26 -> 0 | BV28: =BU28*F28 -> 0 | BW28: =[1]Хрящев!E26 -> 0 | BX28: =BW28*F28 -> 0 | BY28: =[1]Красн!E26 -> 0 | BZ28: =BY28*F28 -> 0 | CA28: =[1]КГГ!E26 -> 0 | CB28: =CA28*F28 -> 0 | CC28: =[1]НСвет!E26 -> 0 | CD28: =CC28*F28 -> 0 | CE28: =[1]радуга!E26 -> 0 | CF28: =CE28*F28 -> 0 | CG28: =[1]ЦБ!E26 -> 0 | CH28: =CG28*F28 -> 0 | CI28: ='[1]10115'!E26 -> 0 | CJ28: =CI28*F28 -> 0 | CK28: ='[1]ЦДТ №1'!E26 -> 0 | CL28: =CK28*F28 -> 0 | CM28: ='[1]ЦДТ № 4'!E26 -> 0 | CN28: =CM28*F28 -> 0 | CO28: =[1]Калинка!E26 -> 0 | CP28: =CO28*F28 -> 0 | CQ28: =[1]Ягодка!E26 -> 0 | CR28: =CQ28*F28 -> 0 | CS28: =[1]Березка!E26 -> 0 | CT28: =CS28*F28 -> 0 | CU28: =[1]Петушок!E26 -> 0 | CV28: =CU28*F28 -> 0 | CW28: =[1]Аленка!E26 -> 2 | CX28: =CW28*F28 -> 0 | CY28: =[1]Барвинок!E26 -> 0 | CZ28: =CY28*F28 -> 0 | DA28: ='[1]Солнышко 10'!E26 -> 0 | DB28: =DA28*F28 -> 0 | DC28: =[1]Золушка!E26 -> 0 | DD28: =DC28*F28 -> 0 | DE28: =[1]Ивушка!E26 -> 2 | DF28: =DE28*F28 -> 0 | DG28: =[1]Сказка!E26 -> 0 | DH28: =DG28*F28 -> 0 | DI28: =[1]Веснушки!E26 -> 0 | DJ28: =DI28*F28 -> 0 | DK28: =[1]кмц!E26 -> 0 | DL28: =DK28*F28 -> 0
... A47: 42 | B47: Клейкая лента 48х200 | C47: шт | D47: =G47+++I47+K47+M47+O47+Q47+S47+U47+W47+Y47+AA47+AC47+AE47+AG47+AI47+AK47+AM47+AO47+AQ47+AS47+AU47+AW47+AY47+BA47+BC47+BE47+BG47+BI47+BK47+BM47+BO47+BQ47+BS47+BU47+BW47+BY47+CA47+CC47+CE47+CG47+CI47+CK47+CM47+CO47+CQ47+CS47+CU47+CW47+CY47+DA47+DC47+DE47+DG47+DI47+DK47 -> 10 | E47: =D47*F47 -> 0 | G47: ='[1]школа 1'!E45 -> 0 | H47: =G47*F47 -> 0 | I47: ='[1]школа 2'!E45 -> 0 | J47: =I47*F47 -> 0 | K47: =[1]Герас!E45 -> 0 | L47: =K47*F47 -> 0 | M47: ='[1]школа 4'!E45 -> 0 | N47: =M47*F47 -> 0 | O47: ='[1]школа 5'!E45 -> 0 | P47: =O47*F47 -> 0 | Q47: ='[1]школа 6'!E45 -> 0 | R47: =Q47*F47 -> 0 | S47: ='[1]школа 7'!E45 -> 0 | T47: =S47*F47 -> 0 | U47: ='[1]школа 8'!E45 -> 0 | V47: =U47*F47 -> 0 | W47: ='[1]школа 9'!E45 -> 0 | X47: =W47*F47 -> 0 | Y47: ='[1]школа 10'!E45 -> 0 | Z47: =Y47*F47 -> 0 | AA47: ='[1]школа 11'!E45 -> 0 | AB47: =AA47*F47 -> 0 | AC47: =[1]Скелев!E45 -> 0 | AD47: =AC47*F47 -> 0 | AE47: ='[1]школа 13'!E45 -> 0 | AF47: =AE47*F47 -> 0 | AG47: ='[1]школа 14'!E45 -> 0 | AH47: =AG47*F47 -> 0 | AI47: ='[1]школа 15'!E45 -> 0 | AJ47: =AI47*F47 -> 0 | AK47: ='[1]школа 16'!E45 -> 0 | AL47: =AK47*F47 -> 0 | AM47: ='[1]школа 17'!E45 -> 0 | AN47: =AM47*F47 -> 0 | AO47: ='[1]школа 18'!E45 -> 0 | AP47: =AO47*F47 -> 0 | AQ47: ='[1]школа 19'!E45 -> 0 | AR47: =AQ47*F47 -> 0 | AS47: ='[1]В-ЛОГ'!E45 -> 0 | AT47: =AS47*F47 -> 0 | AU47: ='[1]школа 21'!E45 -> 0 | AV47: =AU47*F47 -> 0 | AW47: ='[1]школа 22)'!E45 -> 0 | AX47: =AW47*F47 -> 0 | AY47: =[1]БСуход!E45 -> 0 | AZ47: =AY47*F47 -> 0 | BA47: ='[1]школа 24'!E45 -> 0 | BB47: =BA47*F47 -> 0 | BC47: =[1]Шевыр!E45 -> 0 | BD47: =BC47*F47 -> 0 | BE47: =[1]дн!E45 -> 0 | BF47: =BE47*F47 -> 0 | BG47: =[1]Новоанн!E45 -> 0 | BH47: =BG47*F47 -> 0 | BI47: ='[1]Н-А'!E45 -> 0 | BJ47: =BI47*F47 -> 0 | BK47: =[1]Ордж!E45 -> 0 | BL47: =BK47*F47 -> 0 | BM47: =[1]Пархом!E45 -> 0 | BN47: =BM47*F47 -> 0 | BO47: =[1]Семейк!E45 -> 0 | BP47: =BO47*F47 -> 0 | BQ47: =[1]Пореч!E45 -> 0 | BR47: =BQ47*F47 -> 0 | BS47: =[1]Самсон!E45 -> 0 | BT47: =BS47*F47 -> 0 | BU47: =[1]Тал!E45 -> 0 | BV47: =BU47*F47 -> 0 | BW47: =[1]Хрящев!E45 -> 0 | BX47: =BW47*F47 -> 0 | BY47: =[1]Красн!E45 -> 0 | BZ47: =BY47*F47 -> 0 | CA47: =[1]КГГ!E45 -> 0 | CB47: =CA47*F47 -> 0 | CC47: =[1]НСвет!E45 -> 0 | CD47: =CC47*F47 -> 0 | CE47: =[1]радуга!E45 -> 0 | CF47: =CE47*F47 -> 0 | CG47: =[1]ЦБ!E45 -> 10 | CH47: =CG47*F47 -> 0 | CI47: ='[1]10115'!E45 -> 0 | CJ47: =CI47*F47 -> 0 | CK47: ='[1]ЦДТ №1'!E45 -> 0 | CL47: =CK47*F47 -> 0 | CM47: ='[1]ЦДТ № 4'!E45 -> 0 | CN47: =CM47*F47 -> 0 | CO47: =[1]Калинка!E45 -> 0 | CP47: =CO47*F47 -> 0 | CQ47: =[1]Ягодка!E45 -> 0 | CR47: =CQ47*F47 -> 0 | CS47: =[1]Березка!E45 -> 0 | CT47: =CS47*F47 -> 0 | CU47: =[1]Петушок!E45 -> 0 | CV47: =CU47*F47 -> 0 | CW47: =[1]Аленка!E45 -> 0 | CX47: =CW47*F47 -> 0 | CY47: =[1]Барвинок!E45 -> 0 | CZ47: =CY47*F47 -> 0 | DA47: ='[1]Солнышко 10'!E45 -> 0 | DB47: =DA47*F47 -> 0 | DC47: =[1]Золушка!E45 -> 0 | DD47: =DC47*F47 -> 0 | DE47: =[1]Ивушка!E45 -> 0 | DF47: =DE47*F47 -> 0 | DG47: =[1]Сказка!E45 -> 0 | DH47: =DG47*F47 -> 0 | DI47: =[1]Веснушки!E45 -> 0 | DJ47: =DI47*F47 -> 0 | DK47: =[1]кмц!E45 -> 0 | DL47: =DK47*F47 -> 0
A48: 43 | B48: Картон для сшива | C48: шт | D48: =G48+++I48+K48+M48+O48+Q48+S48+U48+W48+Y48+AA48+AC48+AE48+AG48+AI48+AK48+AM48+AO48+AQ48+AS48+AU48+AW48+AY48+BA48+BC48+BE48+BG48+BI48+BK48+BM48+BO48+BQ48+BS48+BU48+BW48+BY48+CA48+CC48+CE48+CG48+CI48+CK48+CM48+CO48+CQ48+CS48+CU48+CW48+CY48+DA48+DC48+DE48+DG48+DI48+DK48 -> 5 | E48: =D48*F48 -> 0 | J48: =I48*F48 -> 0 | L48: =K48*F48 -> 0 | P48: =O48*F48 -> 0 | V48: =U48*F48 -> 0 | AL48: =AK48*F48 -> 0 | BH48: =BG48*F48 -> 0 | BR48: =BQ48*F48 -> 0 | BX48: =F48 -> 0 | CF48: =CE48*F48 -> 0 | CG48: =[1]ЦБ!E46 -> 5 | CH48: =CG48*F48 -> 0 | CJ48: =CI48*F48 -> 0 | CL48: =CK48*F48 -> 0 | CN48: =CM48*F48 -> 0 | CP48: =CO48*F48 -> 0 | CR48: =CQ48*F48 -> 0 | CT48: =CS48*F48 -> 0 | CV48: =CU48*F48 -> 0 | CX48: =CW48*F48 -> 0 | CZ48: =CY48*F48 -> 0 | DB48: =DA48*F48 -> 0 | DD48: =DC48*F48 -> 0 | DF48: =DE48*F48 -> 0 | DH48: =DG48*F48 -> 0 | DJ48: =DI48*F48 -> 0 | DL48: =DK48*F48 -> 0
B49: Сумма договора | D49: =SUM(D6:D48) -> 16017 | E49: =SUM(E6:E48) -> 0 | H49: =SUM(H6:H47) -> 0 | J49: =SUM(J6:J47) -> 0 | L49: =SUM(L6:L47) -> 0 | N49: =SUM(N6:N47) -> 0 | P49: =SUM(P6:P47) -> 0 | R49: =SUM(R6:R47) -> 0 | T49: =SUM(T6:T47) -> 0 | V49: =SUM(V6:V48) -> 0 | X49: =SUM(X6:X48) -> 0 | Z49: =SUM(Z6:Z48) -> 0 | AB49: =SUM(AB6:AB48) -> 0 | AD49: =SUM(AD6:AD48) -> 0 | AF49: =SUM(AF6:AF48) -> 0 | AH49: =SUM(AH6:AH48) -> 0 | AJ49: =SUM(AJ6:AJ48) -> 0 | AL49: =SUM(AL6:AL48) -> 0 | AN49: =SUM(AN6:AN48) -> 0 | AP49: =SUM(AP6:AP48) -> 0 | AR49: =SUM(AR6:AR48) -> 0 | AT49: =SUM(AT6:AT48) -> 0 | AV49: =SUM(AV6:AV47) -> 0 | AX49: =SUM(AX6:AX47) -> 0 | AZ49: =SUM(AZ6:AZ47) -> 0 | BB49: =SUM(BB6:BB47) -> 0 | BD49: =SUM(BD6:BD47) -> 0 | BF49: =SUM(BF6:BF47) -> 0 | BH49: =SUM(BH6:BH47) -> 0 | BJ49: =SUM(BJ6:BJ47) -> 0 | BL49: =SUM(BL6:BL47) -> 0 | BN49: =SUM(BN6:BN47) -> 0 | BP49: =SUM(BP6:BP47) -> 0 | BR49: =SUM(BR6:BR47) -> 0 | BT49: =SUM(BT6:BT47) -> 0 | BV49: =SUM(BV6:BV47) -> 0 | BX49: =SUM(BX6:BX47) -> 0 | BZ49: =SUM(BZ6:BZ47) -> 0 | CB49: =SUM(CB6:CB47) -> 0 | CD49: =SUM(CD6:CD47) -> 0 | CF49: =SUM(CF6:CF47) -> 0 | CH49: =SUM(CH6:CH48) -> 0 | CJ49: =SUM(CJ6:CJ48) -> 0 | CL49: =SUM(CL6:CL48) -> 0 | CN49: =SUM(CN6:CN48) -> 0 | CP49: =SUM(CP6:CP48) -> 0 | CR49: =SUM(CR6:CR48) -> 0 | CT49: =SUM(CT6:CT48) -> 0 | CV49: =SUM(CV6:CV48) -> 0 | CX49: =SUM(CX6:CX48) -> 0 | CZ49: =SUM(CZ6:CZ48) -> 0 | DB49: =SUM(DB6:DB48) -> 0 | DD49: =SUM(DD6:DD48) -> 0 | DF49: =SUM(DF6:DF48) -> 0 | DH49: =SUM(DH6:DH48) -> 0 | DJ49: =SUM(DJ6:DJ48) -> 0 | DL49: =SUM(DL6:DL48) -> 0
B51: М.П., Подпись

Sheet Лист2

Sheet Лист3
